BEGIN:VCALENDAR
VERSION:2.0
PRODID:-//Las Vegas Hotels - Silverton Casino - ECPv6.13.2.1//NONSGML v1.0//EN
CALSCALE:GREGORIAN
METHOD:PUBLISH
X-WR-CALNAME:Las Vegas Hotels - Silverton Casino
X-ORIGINAL-URL:https://silvertoncasino.com
X-WR-CALDESC:Events for Las Vegas Hotels - Silverton Casino
REFRESH-INTERVAL;VALUE=DURATION:PT1H
X-Robots-Tag:noindex
X-PUBLISHED-TTL:PT1H
BEGIN:VTIMEZONE
TZID:America/Los_Angeles
BEGIN:DAYLIGHT
TZOFFSETFROM:-0800
TZOFFSETTO:-0700
TZNAME:PDT
DTSTART:20240310T100000
END:DAYLIGHT
BEGIN:STANDARD
TZOFFSETFROM:-0700
TZOFFSETTO:-0800
TZNAME:PST
DTSTART:20241103T090000
END:STANDARD
BEGIN:DAYLIGHT
TZOFFSETFROM:-0800
TZOFFSETTO:-0700
TZNAME:PDT
DTSTART:20250309T100000
END:DAYLIGHT
BEGIN:STANDARD
TZOFFSETFROM:-0700
TZOFFSETTO:-0800
TZNAME:PST
DTSTART:20251102T090000
END:STANDARD
BEGIN:DAYLIGHT
TZOFFSETFROM:-0800
TZOFFSETTO:-0700
TZNAME:PDT
DTSTART:20260308T100000
END:DAYLIGHT
BEGIN:STANDARD
TZOFFSETFROM:-0700
TZOFFSETTO:-0800
TZNAME:PST
DTSTART:20261101T090000
END:STANDARD
END:VTIMEZONE
BEGIN:VEVENT
DTSTART;VALUE=DATE:20241227
DTEND;VALUE=DATE:20261227
DTSTAMP:20260423T135728
CREATED:20230301T175004Z
LAST-MODIFIED:20260420T222455Z
UID:5426-1735257600-1798329599@silvertoncasino.com
SUMMARY:Mermaid Lounge Live
DESCRIPTION:Mermaid Lounge Live\nFridays & Saturdays | 8PM – 11PM \nFree live music every Friday & Saturday from 8pm – 11pm. \nMermaid Lounge Live brings music lovers a one-of-a-kind night out Fridays and Saturdays adjacent to Las Vegas’ famed aquarium attraction! Enjoy an eclectic mix of musical genres from an array of established artists. \nLINEUP \n\nApril 24 | Michael Braun \n\nApril 25 | En-Vi \n\nMay 1 | Tony Venniro \n\nMay 2 | Hitkickerz Duo \n\nMay 8 | Michael Braun \n\nMay 9 | Patrick Dodd \nMust be 21+. Schedule is subject to change without prior notice. \n 
URL:https://silvertoncasino.com/event/mermaid-lounge-live/
LOCATION:Mermaid Lounge
CATEGORIES:Entertainment,Events
ATTACH;FMTTYPE=image/jpeg:https://silvertoncasino.com/wp-content/uploads/2022/12/Mermaid-Lounge-Live_WEB-960x540-1.jpg
END:VEVENT
BEGIN:VEVENT
DTSTART;VALUE=DATE:20260411
DTEND;VALUE=DATE:20260413
DTSTAMP:20260423T135728
CREATED:20260218T021137Z
LAST-MODIFIED:20260324T215822Z
UID:14929-1775865600-1776038399@silvertoncasino.com
SUMMARY:80's World Spring Break Bash
DESCRIPTION:80’s World Spring Break Bash\nTribute Concert Starring The Stinson Brotherz\nHosted by Adrian Zmed \nSaturday\, April 11 \nDoors: 7pm\nShow: 8pm\nVeil Pavilion \nRemember Spring Break back in the day? Maybe it was Daytona. Maybe Cabo. Maybe you were stuck at work wishing you were somewhere with palm trees and a boombox. Now’s your chance to live it loud! \nThe 80’s World Spring Break Bash rolls into Veil Pavilion with a high-energy tribute concert starring The Stinson Brotherz as Billy Idol\, Loverboy\, Rick Springfield\, and Stray Cats and hosted by Adrian Zmed. Four iconic sounds. One electric night. All the fist-pumping\, hair-spraying\, sing-at-the-top-of-your-lungs anthems you know by heart. \nThis is the ultimate throwback bash. Loud guitars\, singalong choruses\, and that carefree Spring Break spirit you thought you left behind. Every set is stacked with iconic tracks that turn the night into one big encore. \nPull out the denim\, tease up the hair\, and round up your ride-or-die crew for a Spring Break night that goes down in legend. \nGeneral Admission – $30\nGeneral Admission seating is first-come\, first-serve.\nDoors open at 7pm and the show starts at 8pm. \nBUY TICKETS NOW \nAll ages show. Guests under 18 must be accompanied by an adult 21+. Ticket price includes taxes and fees. All sales are final. Entertainment subject to change without prior notice. Management reserves all rights.
URL:https://silvertoncasino.com/event/80s-world/
LOCATION:Veil Pavilion
CATEGORIES:Entertainment,Events
ATTACH;FMTTYPE=image/jpeg:https://silvertoncasino.com/wp-content/uploads/2026/03/EN0426-02_80s-World_WEBSITE-960x540-Host.jpg
END:VEVENT
END:VCALENDAR