BEGIN:VCALENDAR
VERSION:2.0
PRODID:-//Las Vegas Hotels - Silverton Casino - ECPv6.13.2.1//NONSGML v1.0//EN
CALSCALE:GREGORIAN
METHOD:PUBLISH
X-WR-CALNAME:Las Vegas Hotels - Silverton Casino
X-ORIGINAL-URL:https://silvertoncasino.com
X-WR-CALDESC:Events for Las Vegas Hotels - Silverton Casino
REFRESH-INTERVAL;VALUE=DURATION:PT1H
X-Robots-Tag:noindex
X-PUBLISHED-TTL:PT1H
BEGIN:VTIMEZONE
TZID:America/Denver
BEGIN:DAYLIGHT
TZOFFSETFROM:-0700
TZOFFSETTO:-0600
TZNAME:MDT
DTSTART:20210314T090000
END:DAYLIGHT
BEGIN:STANDARD
TZOFFSETFROM:-0600
TZOFFSETTO:-0700
TZNAME:MST
DTSTART:20211107T080000
END:STANDARD
BEGIN:DAYLIGHT
TZOFFSETFROM:-0700
TZOFFSETTO:-0600
TZNAME:MDT
DTSTART:20220313T090000
END:DAYLIGHT
BEGIN:STANDARD
TZOFFSETFROM:-0600
TZOFFSETTO:-0700
TZNAME:MST
DTSTART:20221106T080000
END:STANDARD
BEGIN:DAYLIGHT
TZOFFSETFROM:-0700
TZOFFSETTO:-0600
TZNAME:MDT
DTSTART:20230312T090000
END:DAYLIGHT
BEGIN:STANDARD
TZOFFSETFROM:-0600
TZOFFSETTO:-0700
TZNAME:MST
DTSTART:20231105T080000
END:STANDARD
BEGIN:DAYLIGHT
TZOFFSETFROM:-0700
TZOFFSETTO:-0600
TZNAME:MDT
DTSTART:20240310T090000
END:DAYLIGHT
BEGIN:STANDARD
TZOFFSETFROM:-0600
TZOFFSETTO:-0700
TZNAME:MST
DTSTART:20241103T080000
END:STANDARD
BEGIN:DAYLIGHT
TZOFFSETFROM:-0700
TZOFFSETTO:-0600
TZNAME:MDT
DTSTART:20250309T090000
END:DAYLIGHT
BEGIN:STANDARD
TZOFFSETFROM:-0600
TZOFFSETTO:-0700
TZNAME:MST
DTSTART:20251102T080000
END:STANDARD
BEGIN:DAYLIGHT
TZOFFSETFROM:-0700
TZOFFSETTO:-0600
TZNAME:MDT
DTSTART:20260308T090000
END:DAYLIGHT
BEGIN:STANDARD
TZOFFSETFROM:-0600
TZOFFSETTO:-0700
TZNAME:MST
DTSTART:20261101T080000
END:STANDARD
BEGIN:DAYLIGHT
TZOFFSETFROM:-0700
TZOFFSETTO:-0600
TZNAME:MDT
DTSTART:20270314T090000
END:DAYLIGHT
BEGIN:STANDARD
TZOFFSETFROM:-0600
TZOFFSETTO:-0700
TZNAME:MST
DTSTART:20271107T080000
END:STANDARD
END:VTIMEZONE
BEGIN:VEVENT
DTSTART;VALUE=DATE:20211204
DTEND;VALUE=DATE:20270105
DTSTAMP:20260419T114342
CREATED:20231025T190050Z
LAST-MODIFIED:20251219T185120Z
UID:4724-1638576000-1799107199@silvertoncasino.com
SUMMARY:Fab 50+ Senior Mondays
DESCRIPTION:Fab 50+ Senior Mondays\nEvery Monday \nDiscovery Rewards Club members aged 50+ are eligible for special rewards each Monday. \nDINING\nWrangler rewards members and above receive 50% off one entree at Mi Casa Grill Cantina\, Su Casa Sushi Bar\, Sundance Grill or WuHu Noodle. Trailblazer rewards members may earn 25 points to participate in the dining offer. Dining coupons can be printed at any kiosk 7am-9pm. \nSWIPE N WIN\nStart your week off right\, swipe to win up to $100 Free Slot Play! \nAARP ROOM DISCOUNTS \nMembers of AARP receive a discount on hotel rooms.  Learn more here. \n See Discovery Rewards Club for complete rules and details. Offer subject to change. Management reserves all rights.
URL:https://silvertoncasino.com/event/fab-50-senior-mondays/
CATEGORIES:Casino,Promotions
ATTACH;FMTTYPE=image/jpeg:https://silvertoncasino.com/wp-content/uploads/2023/10/CM0823-17_Fab-50-Rebrand_WEBSITE-960x540-1.jpg
END:VEVENT
BEGIN:VEVENT
DTSTART;VALUE=DATE:20220603
DTEND;VALUE=DATE:20220627
DTSTAMP:20260419T114342
CREATED:20220523T222402Z
LAST-MODIFIED:20220523T223238Z
UID:7129-1654214400-1656287999@silvertoncasino.com
SUMMARY:Kunkle's Kash
DESCRIPTION:Kunkle’s Kash Swipe N Win\nFridays & Saturdays in June \nSilverton President Rob Kunkle doesn’t like to be the center of attention\, but he loves giving away money. So this month\, we’re giving away Kunkle’s Kash! \nEarn 100 points each promotion day to play. Swipe at the Silverton Rewards redemption kiosk and win up to $5\,000 CASH or other kool prizes! \nKunkle’s Kash Grand Finale Drawing\nSunday\, June 26 | 5PM \nFive lucky winners will each win $1\,000 CASH! Silverton Rewards Club members receive one entry for every 50 points earned.\n\nSwipe N Win: Points earned must be base points only earned from 2am – 11:59pm on each promotion day. Swipe N Win promotion must be redeemed at a kiosk by 11:59pm on each promotion day. Grand Finale Drawing: Drawing check-in is required.\nSee Silverton Rewards Club for rules and details. Available to all Silverton Rewards Club members. Must be 21 years of age or older. Management reserves all rights.
URL:https://silvertoncasino.com/event/kunkles-kash/
CATEGORIES:Casino,Promotions
ATTACH;FMTTYPE=image/jpeg:https://silvertoncasino.com/wp-content/uploads/2022/05/CM0622-03_June-Kunkles-Kash-Website-982x654-1.jpg
END:VEVENT
BEGIN:VEVENT
DTSTART;VALUE=DATE:20220603
DTEND;VALUE=DATE:20220731
DTSTAMP:20260419T114342
CREATED:20220601T201951Z
LAST-MODIFIED:20220725T223534Z
UID:5493-1654214400-1659225599@silvertoncasino.com
SUMMARY:Sway Poolside Live
DESCRIPTION:Sway Poolside Live \nFridays & Saturdays | 5PM – 8PM  \nEnjoy free live music in an outdoor setting at Sway Pool. Groove to live artists in an intimate atmosphere at Silverton Casino’s pool. \nOpen to the public\, no admission charge. \nLINEUP\n \nJuly 29 | Michael Braun \n \nJuly 30 | Mikey Gits
URL:https://silvertoncasino.com/event/sway-poolside-live/
LOCATION:Sway Pool\, 3333 Blue Diamond Rd\, Las Vegas\, NV\, 89139\, United States
CATEGORIES:Entertainment,Events
ATTACH;FMTTYPE=image/jpeg:https://silvertoncasino.com/wp-content/uploads/2021/04/0521_SwayPoolside_V2-982x654-1.jpg
END:VEVENT
END:VCALENDAR