BEGIN:VCALENDAR
VERSION:2.0
PRODID:-//Las Vegas Hotels - Silverton Casino - ECPv6.13.2.1//NONSGML v1.0//EN
CALSCALE:GREGORIAN
METHOD:PUBLISH
X-WR-CALNAME:Las Vegas Hotels - Silverton Casino
X-ORIGINAL-URL:https://silvertoncasino.com
X-WR-CALDESC:Events for Las Vegas Hotels - Silverton Casino
REFRESH-INTERVAL;VALUE=DURATION:PT1H
X-Robots-Tag:noindex
X-PUBLISHED-TTL:PT1H
BEGIN:VTIMEZONE
TZID:America/Denver
BEGIN:DAYLIGHT
TZOFFSETFROM:-0700
TZOFFSETTO:-0600
TZNAME:MDT
DTSTART:20200308T090000
END:DAYLIGHT
BEGIN:STANDARD
TZOFFSETFROM:-0600
TZOFFSETTO:-0700
TZNAME:MST
DTSTART:20201101T080000
END:STANDARD
BEGIN:DAYLIGHT
TZOFFSETFROM:-0700
TZOFFSETTO:-0600
TZNAME:MDT
DTSTART:20210314T090000
END:DAYLIGHT
BEGIN:STANDARD
TZOFFSETFROM:-0600
TZOFFSETTO:-0700
TZNAME:MST
DTSTART:20211107T080000
END:STANDARD
BEGIN:DAYLIGHT
TZOFFSETFROM:-0700
TZOFFSETTO:-0600
TZNAME:MDT
DTSTART:20220313T090000
END:DAYLIGHT
BEGIN:STANDARD
TZOFFSETFROM:-0600
TZOFFSETTO:-0700
TZNAME:MST
DTSTART:20221106T080000
END:STANDARD
END:VTIMEZONE
BEGIN:VEVENT
DTSTART;VALUE=DATE:20201227
DTEND;VALUE=DATE:20211025
DTSTAMP:20260422T084537
CREATED:20210111T164434Z
LAST-MODIFIED:20211020T190208Z
UID:5132-1609027200-1635119999@silvertoncasino.com
SUMMARY:Prime Rib Dinner Sundays
DESCRIPTION:Prime Rib Dinner Sundays\nMi Casa Grill Cantina | $36 per person | 4:30PM – 9PM\n12oz.  Prime Rib with au jus & horseradish cream\, garlic mashed potatoes\, broccolini\, mini crème brûlée and a glass of house red or white wine
URL:https://silvertoncasino.com/event/prime-rib-dinner-sundays-mi-casa-grill-cantina/
CATEGORIES:Dining,Promotions
ATTACH;FMTTYPE=image/jpeg:https://silvertoncasino.com/wp-content/uploads/2021/01/0121-FBImageResize_PrimeRib_982x654.jpg
END:VEVENT
BEGIN:VEVENT
DTSTART;VALUE=DATE:20210101
DTEND;VALUE=DATE:20211023
DTSTAMP:20260422T084537
CREATED:20210109T004847Z
LAST-MODIFIED:20211020T190246Z
UID:5129-1609459200-1634947199@silvertoncasino.com
SUMMARY:Filet Fridays
DESCRIPTION:Filet Fridays\nMi Casa Grill Cantina | $45 per person | 4:30PM – 9PM\n6oz.  Filet Mignon\, caramelized shallots & smoked bacon\, roasted garlic mashed potatoes\, baby carrots\, mini crème brûlée and a glass of house red or white wine
URL:https://silvertoncasino.com/event/filet-fridays-mi-casa-grill-cantina/
CATEGORIES:Dining,Promotions
ATTACH;FMTTYPE=image/jpeg:https://silvertoncasino.com/wp-content/uploads/2021/01/0121-FBImageResize_FiletFriday_982x654.jpg
END:VEVENT
BEGIN:VEVENT
DTSTART;VALUE=DATE:20210825
DTEND;VALUE=DATE:20220117
DTSTAMP:20260422T084537
CREATED:20210824T233707Z
LAST-MODIFIED:20210824T234626Z
UID:5942-1629849600-1642377599@silvertoncasino.com
SUMMARY:$1\,000\,000 Football Challenge
DESCRIPTION:$1\,000\,000 Football Challenge\nAugust 25 – January 16 \nMake 225+ correct winning picks over the season to win $1\,000\,000. Plus\, win additional prizes through weekly leaderboards\, monthly drawings\, instant rewards\, and more! \nClick here to get in on the action! \nVisit silvertonfootballchallenge.com for rules and details. Must be 21 years of age or older. Management reserves all rights.
URL:https://silvertoncasino.com/event/football-challenge/
CATEGORIES:Casino,Promotions
ATTACH;FMTTYPE=image/jpeg:https://silvertoncasino.com/wp-content/uploads/2021/08/0921_FootballChallenge-982x654-1.jpg
END:VEVENT
BEGIN:VEVENT
DTSTART;VALUE=DATE:20210901
DTEND;VALUE=DATE:20211029
DTSTAMP:20260422T084537
CREATED:20210831T000023Z
LAST-MODIFIED:20210831T000241Z
UID:6058-1630454400-1635465599@silvertoncasino.com
SUMMARY:Ladies Drink Free
DESCRIPTION:Ladies Drink Free\nShady Grove Lounge\nWednesdays & Thursdays | 5PM – 7PM \nLadies\, drinks are on us! Back for a limited time\, ladies drink for free every Wednesday and Thursday from 5pm-7pm. \nFree drinks include house wine\, domestic beer\, and well cocktails. \nMust be 21+. Management reserves all rights.
URL:https://silvertoncasino.com/event/ladies-drink-free/
CATEGORIES:Dining,Promotions
ATTACH;FMTTYPE=image/jpeg:https://silvertoncasino.com/wp-content/uploads/2021/08/0921_LadiesDrinkFree-982x654-1.jpg
END:VEVENT
BEGIN:VEVENT
DTSTART;VALUE=DATE:20210909
DTEND;VALUE=DATE:20220131
DTSTAMP:20260422T084537
CREATED:20210825T000004Z
LAST-MODIFIED:20220113T230426Z
UID:5948-1631145600-1643587199@silvertoncasino.com
SUMMARY:Football Frenzy
DESCRIPTION:Football Frenzy at Mermaid Lounge\nAvailable during football games \n$35 per person\n– 2 Pitchers of PBR or Bucket of PBR bottles (5)\n– Choice of a Cheese or Pepperoni Pizza\n– Frenzy Party Platter – includes Mini Beef Nachos\, 3 Buffalo Chicken Sliders\, 9 Wings with your choice of sauce\, Parmesan Fries \nMust be 21 years of age or older. Management reserves all rights.
URL:https://silvertoncasino.com/event/football-frenzy/
CATEGORIES:Dining,Promotions
ATTACH;FMTTYPE=image/jpeg:https://silvertoncasino.com/wp-content/uploads/2021/08/0921_FootballFrenzy-982x654-1.jpg
END:VEVENT
BEGIN:VEVENT
DTSTART;VALUE=DATE:20211001
DTEND;VALUE=DATE:20211030
DTSTAMP:20260422T084537
CREATED:20210924T224912Z
LAST-MODIFIED:20210924T230755Z
UID:6110-1633046400-1635551999@silvertoncasino.com
SUMMARY:Spooktakular Swipe N Win
DESCRIPTION:Spooktakular Swipe N Win\nFridays in October \nDoes winning a prize seem like a ghoulish delight? Earn 100 points each Friday to play. Swipe at the kiosk and win up to $1\,000 Free Slot Play and other outstanding prizes! \nSee Silverton Rewards Club for rules and details. Available to all Silverton Rewards Club members. Must be 21 years of age or older. Management reserves all rights.
URL:https://silvertoncasino.com/event/spooktakular-swipe-n-win/
CATEGORIES:Casino,Promotions
ATTACH;FMTTYPE=image/jpeg:https://silvertoncasino.com/wp-content/uploads/2021/09/1021_Spooktacular_982x654.jpg
END:VEVENT
BEGIN:VEVENT
DTSTART;VALUE=DATE:20211004
DTEND;VALUE=DATE:20211024
DTSTAMP:20260422T084537
CREATED:20210924T225328Z
LAST-MODIFIED:20210924T225742Z
UID:6111-1633305600-1635033599@silvertoncasino.com
SUMMARY:Earn & Win: Startastic Light Show Projector
DESCRIPTION:Earn & Win: Startastic Light Show Projector\nEarn Monday – Thursday\nRedeem Friday – Saturday\nOctober 4 – 9 & 18 – 23 \nEarn 2\,000 points Monday – Thursday\, October 4 – 7 & 18 – 21. Print your coupon Friday or Saturday of the same week that you earn and present at Silverton Rewards Club to redeem.\nLimit one Startastic light show projector per person per promotion period. \nPoints earned must be base points only earned from 2:00 am-11:59pm each Monday-Thursday. Coupon must be printed and redeemed Friday-Saturday of the same week. Earned points and coupon redemptions do not carry over to the following weeks Supplies are limited. Available to all Silverton Rewards Club members. Must be 21 years of age or older. Management reserves all rights.
URL:https://silvertoncasino.com/event/earn-win-startastic/
CATEGORIES:Casino,Promotions
ATTACH;FMTTYPE=image/jpeg:https://silvertoncasino.com/wp-content/uploads/2021/09/1021_EWStartasticLight_982x654.jpg
END:VEVENT
BEGIN:VEVENT
DTSTART;VALUE=DATE:20211009
DTEND;VALUE=DATE:20211031
DTSTAMP:20260422T084537
CREATED:20210924T224642Z
LAST-MODIFIED:20210924T224642Z
UID:6109-1633737600-1635638399@silvertoncasino.com
SUMMARY:$200\,000 Trucktober Giveaway
DESCRIPTION:$200\,000 Trucktober Giveaway\nSaturdays\, October 9\, 16\, 23 & 30\n7PM Drawings \nSpin if you dare\, but you might get a scare. Silverton Rewards Club members may earn 50 points per drawing entry for the chance to win $50\,000 Cash. \nPrize Pool: \n\nTake the truck or try your luck! Grand Prize winner receives a Chevy Colorado or spins the CASH Wheel to win up to $50\,000 Cash.\n4 winners each receive $500 Free Slot Play\n5 winners each receive $250 Free Slot Play\n\n  \nSee Silverton Rewards Club for rules and details. Available to all Silverton Rewards Club members. Must be 21 years of age or older. Management reserves all rights.
URL:https://silvertoncasino.com/event/trucktober-giveaway/
CATEGORIES:Casino,Promotions
ATTACH;FMTTYPE=image/jpeg:https://silvertoncasino.com/wp-content/uploads/2021/09/1021_Trucktober_982x654.jpg
END:VEVENT
BEGIN:VEVENT
DTSTART;VALUE=DATE:20211014
DTEND;VALUE=DATE:20211113
DTSTAMP:20260422T084537
CREATED:20211019T003450Z
LAST-MODIFIED:20211019T004429Z
UID:6137-1634169600-1636761599@silvertoncasino.com
SUMMARY:Patrón Specialty Margaritas
DESCRIPTION:Patrón Specialty Margaritas\nMi Casa Grill Cantina\n$15 \nMi Casa Grill Cantina will be offering Patrón specialty margaritas for $15 each. The drink will be served in a mini Patrón souvenir bottle while supplies last. \nRefresh-a-Rita\ngin\, Patrón Silver\, cucumber puree\, elderflower\, lemon juice\, simple syrup \nSilver-Rita\nPatrón Silver\, triple sec\, chamoy \nBerry-Rita\nPatrón Silver\, lemon juice\, triple sec\, muddled blueberries mixed with agave syrup \nAvailable while supplies last. Management reserves all rights.
URL:https://silvertoncasino.com/event/cocktails-micasa/
CATEGORIES:Dining,Promotions
ATTACH;FMTTYPE=image/jpeg:https://silvertoncasino.com/wp-content/uploads/2021/10/AD1121_SpecialtyCocktails_Patron_982x654.jpg
END:VEVENT
BEGIN:VEVENT
DTSTART;VALUE=DATE:20211014
DTEND;VALUE=DATE:20211126
DTSTAMP:20260422T084537
CREATED:20210913T235727Z
LAST-MODIFIED:20211025T001721Z
UID:6083-1634169600-1637884799@silvertoncasino.com
SUMMARY:Larry Lee Hall: A Rock Show
DESCRIPTION:Larry Lee Hall\nA Rock Show\nThursdays\nOctober 28\nNovember 4\, 11\, 18 & 25 \nDoors: 7 pm\nShow: 8 pm\nVeil Pavilion \nLet loose and start your weekend early! Larry Lee Hall performs live at Veil Pavilion Thursday nights at 8pm. Join us for an eclectic mix of music from the ’70s\, ’80s\, ’90s\, and beyond\, with a little bit of comedy thrown in to spice things up. \nLarry Lee Hall has been a professional musician and producer for over 30 years. He has performed with Unauthorized Ozzy\, Carter Hall Project\, and Larry Hall Project in recent years. Having played the Vegas circuit for many years\, he decided to record some original music\, along with a couple of covers. Larry currently has three singles out\, “Hold My Hand\,” a contemporary cover of the Hootie and the Blowfish hit\, “Gonna be Alright\,” an original story of lost love and missed opportunity\, and “So Over\,” an angry breakup song because there are not enough of those in the world. \nNo cover\, seating is first-come\, first-serve. Doors open at 7pm and the show starts at 8pm. \nAll ages show\, may contain strong language and content that some may find offensive or inappropriate. Guests under 18 must be accompanied by an adult 21+. Entertainment subject to change without prior notice. Management reserves all rights.
URL:https://silvertoncasino.com/event/larry-lee-hall-a-rock-show/
LOCATION:Veil Pavilion
CATEGORIES:Entertainment,Events
ATTACH;FMTTYPE=image/jpeg:https://silvertoncasino.com/wp-content/uploads/2021/09/EN1021-03_LarryLeeHall_WEBSITE_982x654.jpg
END:VEVENT
END:VCALENDAR