BEGIN:VCALENDAR
VERSION:2.0
PRODID:-//Las Vegas Hotels - Silverton Casino - ECPv6.13.2.1//NONSGML v1.0//EN
CALSCALE:GREGORIAN
METHOD:PUBLISH
X-ORIGINAL-URL:https://silvertoncasino.com
X-WR-CALDESC:Events for Las Vegas Hotels - Silverton Casino
REFRESH-INTERVAL;VALUE=DURATION:PT1H
X-Robots-Tag:noindex
X-PUBLISHED-TTL:PT1H
BEGIN:VTIMEZONE
TZID:America/Denver
BEGIN:DAYLIGHT
TZOFFSETFROM:-0700
TZOFFSETTO:-0600
TZNAME:MDT
DTSTART:20200308T090000
END:DAYLIGHT
BEGIN:STANDARD
TZOFFSETFROM:-0600
TZOFFSETTO:-0700
TZNAME:MST
DTSTART:20201101T080000
END:STANDARD
BEGIN:DAYLIGHT
TZOFFSETFROM:-0700
TZOFFSETTO:-0600
TZNAME:MDT
DTSTART:20210314T090000
END:DAYLIGHT
BEGIN:STANDARD
TZOFFSETFROM:-0600
TZOFFSETTO:-0700
TZNAME:MST
DTSTART:20211107T080000
END:STANDARD
END:VTIMEZONE
BEGIN:VEVENT
DTSTART;VALUE=DATE:20201227
DTEND;VALUE=DATE:20211025
DTSTAMP:20260421T132237
CREATED:20210111T164434Z
LAST-MODIFIED:20211020T190208Z
UID:5132-1609027200-1635119999@silvertoncasino.com
SUMMARY:Prime Rib Dinner Sundays
DESCRIPTION:Prime Rib Dinner Sundays\nMi Casa Grill Cantina | $36 per person | 4:30PM – 9PM\n12oz.  Prime Rib with au jus & horseradish cream\, garlic mashed potatoes\, broccolini\, mini crème brûlée and a glass of house red or white wine
URL:https://silvertoncasino.com/event/prime-rib-dinner-sundays-mi-casa-grill-cantina/
CATEGORIES:Dining,Promotions
ATTACH;FMTTYPE=image/jpeg:https://silvertoncasino.com/wp-content/uploads/2021/01/0121-FBImageResize_PrimeRib_982x654.jpg
END:VEVENT
BEGIN:VEVENT
DTSTART;VALUE=DATE:20210101
DTEND;VALUE=DATE:20211023
DTSTAMP:20260421T132237
CREATED:20210109T004847Z
LAST-MODIFIED:20211020T190246Z
UID:5129-1609459200-1634947199@silvertoncasino.com
SUMMARY:Filet Fridays
DESCRIPTION:Filet Fridays\nMi Casa Grill Cantina | $45 per person | 4:30PM – 9PM\n6oz.  Filet Mignon\, caramelized shallots & smoked bacon\, roasted garlic mashed potatoes\, baby carrots\, mini crème brûlée and a glass of house red or white wine
URL:https://silvertoncasino.com/event/filet-fridays-mi-casa-grill-cantina/
CATEGORIES:Dining,Promotions
ATTACH;FMTTYPE=image/jpeg:https://silvertoncasino.com/wp-content/uploads/2021/01/0121-FBImageResize_FiletFriday_982x654.jpg
END:VEVENT
BEGIN:VEVENT
DTSTART;VALUE=DATE:20210702
DTEND;VALUE=DATE:20210731
DTSTAMP:20260421T132237
CREATED:20210617T232253Z
LAST-MODIFIED:20210621T212121Z
UID:5692-1625184000-1627689599@silvertoncasino.com
SUMMARY:Red\, White & Win
DESCRIPTION:Red\, White & Win\nSwipe N Win\nFridays in July \nEarn 100 points each Friday to play. Swipe at the kiosk and win up to $1\,000 cash and other exciting prizes! \nSee Silverton Rewards Club for rules and details. Available to all Silverton Rewards Club members. Must be 21 years of age or older. Management reserves all rights.
URL:https://silvertoncasino.com/event/red-white-win/
CATEGORIES:Casino,Promotions
ATTACH;FMTTYPE=image/jpeg:https://silvertoncasino.com/wp-content/uploads/2021/06/0721_RedWhiteWin-982x654-1.jpg
END:VEVENT
BEGIN:VEVENT
DTSTART;TZID=America/Denver:20210705T110000
DTEND;TZID=America/Denver:20210927T220000
DTSTAMP:20260421T132237
CREATED:20210629T211936Z
LAST-MODIFIED:20210629T211936Z
UID:5717-1625482800-1632780000@silvertoncasino.com
SUMMARY:Family Feast Grab-N-Go
DESCRIPTION:Family Feast Grab-N-Go at Sundance Grill\nMondays 11AM – 10PM \nEvery Monday\, Sundance Grill is offering a grab-n-go to feed the whole family! Enjoy two racks of House-Smoked Baby Back Ribs\, BBQ Baked Beans\, Southern Potato Salad\, Corn on the Cob\, Buttermilk Biscuits & Banana Pudding.
URL:https://silvertoncasino.com/event/family-feast-bbqribs/
CATEGORIES:Dining,Promotions
ATTACH;FMTTYPE=image/jpeg:https://silvertoncasino.com/wp-content/uploads/2021/06/0721_FamilyFeastBBQ_982x654.jpg
END:VEVENT
BEGIN:VEVENT
DTSTART;VALUE=DATE:20210710
DTEND;VALUE=DATE:20210801
DTSTAMP:20260421T132237
CREATED:20210617T233025Z
LAST-MODIFIED:20210629T174023Z
UID:5693-1625875200-1627775999@silvertoncasino.com
SUMMARY:$70\,000 Beach Bash for Cash Drawings
DESCRIPTION:$70\,000 Beach Bash for Cash Drawings\nJuly 10\, 17\, 24 & 31\nSaturdays | 7PM \nSilverton Rewards Club members may earn 50 points per drawing entry for the chance to win $10\,000 Cash every Saturday in July beginning July 10. Enjoy 10X drawing entries every Friday! \nEarn additional entries along with other great prizes by playing online. Click here to play online now! \nPrize Pool: \n1st Place: $10\,000 CASH\n2nd Place: $2\,500 Free Slot Play\n3rd Place: $1\,500 Free Slot Play\n4th Place: $1\,000 Free Slot Play\n5th – 8th Place: $500 Free Slot Play Each\n9th – 10th Place: $250 Free Slot Play Each \nSee Silverton Rewards Club for rules and details. Available to all Silverton Rewards Club members. Must be 21 years of age or older. Management reserves all rights.
URL:https://silvertoncasino.com/event/beach-bash-for-cash/
CATEGORIES:Casino,Promotions
ATTACH;FMTTYPE=image/jpeg:https://silvertoncasino.com/wp-content/uploads/2021/06/0721_BeachBash-982x654-1.jpg
END:VEVENT
END:VCALENDAR