BEGIN:VCALENDAR
VERSION:2.0
PRODID:-//Las Vegas Hotels - Silverton Casino - ECPv6.13.2.1//NONSGML v1.0//EN
CALSCALE:GREGORIAN
METHOD:PUBLISH
X-WR-CALNAME:Las Vegas Hotels - Silverton Casino
X-ORIGINAL-URL:https://silvertoncasino.com
X-WR-CALDESC:Events for Las Vegas Hotels - Silverton Casino
REFRESH-INTERVAL;VALUE=DURATION:PT1H
X-Robots-Tag:noindex
X-PUBLISHED-TTL:PT1H
BEGIN:VTIMEZONE
TZID:America/Denver
BEGIN:DAYLIGHT
TZOFFSETFROM:-0700
TZOFFSETTO:-0600
TZNAME:MDT
DTSTART:20200308T090000
END:DAYLIGHT
BEGIN:STANDARD
TZOFFSETFROM:-0600
TZOFFSETTO:-0700
TZNAME:MST
DTSTART:20201101T080000
END:STANDARD
END:VTIMEZONE
BEGIN:VEVENT
DTSTART;VALUE=DATE:20200812
DTEND;VALUE=DATE:20200927
DTSTAMP:20260423T130549
CREATED:20200812T214714Z
LAST-MODIFIED:20200825T235248Z
UID:4824-1597190400-1601164799@silvertoncasino.com
SUMMARY:Super Saturday Drawings
DESCRIPTION:Super Saturday Drawings\nSaturdays in September at 7pm \nSilverton Rewards Club members may earn 50 points per drawing entry with 10X entries on Sunday\, September 6\, 13\, & 20. Ten winners will pick an envelope for a chance to win up to $5\,000 cash! \nSee Silverton Rewards Club for complete rules and details.
URL:https://silvertoncasino.com/event/super-saturday-drawings/
CATEGORIES:Casino,Promotions
ATTACH;FMTTYPE=image/jpeg:https://silvertoncasino.com/wp-content/uploads/2020/08/0920_SuperSaturday_982x654-1.jpg
END:VEVENT
BEGIN:VEVENT
DTSTART;VALUE=DATE:20200901
DTEND;VALUE=DATE:20201001
DTSTAMP:20260423T130549
CREATED:20200901T130041Z
LAST-MODIFIED:20200904T221603Z
UID:4831-1598918400-1601510399@silvertoncasino.com
SUMMARY:Vote Best of Las Vegas
DESCRIPTION:Help us make Silverton Casino the Best of Las Vegas once again! \nBest of Las Vegas\, one of the most established and well-known readers’ choice awards in the Las Vegas Valley is officially underway. Now through Friday\, September 30\, click here to vote for Silverton Casino. \n\nMi Casa Grill Cantina – Margaritas\nMi Casa Grill Cantina – Mexican Restaurant\nMi Casa Grill Cantina – Tacos\nShady Grove Lounge – Sports Bar\nSilverton Aquarium – Attraction\nSilverton Aquarium – Family Attraction\nSilverton Casino Hotel – Local’s Casino\nSilverton Casino Hotel – Paying Slots\nSilverton Casino Hotel – Player’s / Loyalty Club\nSilverton Casino Hotel – Staycation\nSilverton Casino Hotel – Table Games\nSundance Grill – Breakfast\nTwin Creeks Steakhouse – Steakhouse\nTwin Creeks Steakhouse – Wine Bar\nWuHu Noodle – Chinese Food\n\nAs a thank you for your continued support\, please show your voting confirmation to the Silverton Rewards Club and enjoy a handcrafted Starbucks beverage on us! \nCast your vote today! \n  \nSee Silverton Rewards Club for complete rules and details.
URL:https://silvertoncasino.com/event/vote-best-of-las-vegas/
CATEGORIES:Casino,Dining,Promotions
ATTACH;FMTTYPE=image/jpeg:https://silvertoncasino.com/wp-content/uploads/2020/08/0820_Website-BANNERS-BOLV.jpg
END:VEVENT
END:VCALENDAR