BEGIN:VCALENDAR
VERSION:2.0
PRODID:-//Las Vegas Hotels - Silverton Casino - ECPv6.13.2.1//NONSGML v1.0//EN
CALSCALE:GREGORIAN
METHOD:PUBLISH
X-WR-CALNAME:Las Vegas Hotels - Silverton Casino
X-ORIGINAL-URL:https://silvertoncasino.com
X-WR-CALDESC:Events for Las Vegas Hotels - Silverton Casino
REFRESH-INTERVAL;VALUE=DURATION:PT1H
X-Robots-Tag:noindex
X-PUBLISHED-TTL:PT1H
BEGIN:VTIMEZONE
TZID:America/Denver
BEGIN:DAYLIGHT
TZOFFSETFROM:-0700
TZOFFSETTO:-0600
TZNAME:MDT
DTSTART:20200308T090000
END:DAYLIGHT
BEGIN:STANDARD
TZOFFSETFROM:-0600
TZOFFSETTO:-0700
TZNAME:MST
DTSTART:20201101T080000
END:STANDARD
END:VTIMEZONE
BEGIN:VEVENT
DTSTART;VALUE=DATE:20200622
DTEND;VALUE=DATE:20200705
DTSTAMP:20260420T131945
CREATED:20200626T185559Z
LAST-MODIFIED:20200626T185559Z
UID:4734-1592784000-1593907199@silvertoncasino.com
SUMMARY:Earn & Win: Mini Trash Can
DESCRIPTION:Earn & Win: Mini Trash Can\nMonday – Thursday in June \nEarn 1000 points Monday through Thursday. Swipe your card at any kiosk and print your Mini Trash Can coupon once you have earned your points. \nPresent your coupon at the Silverton Rewards Club to receive your Mini Trash Can on Friday or Saturday\, through July 4th. \nLimit 1 Mini Trash Can per person on each promotion date. \nSee Silverton Rewards Club for complete rules and details.
URL:https://silvertoncasino.com/event/earn-win-mini-trash-can/
CATEGORIES:Casino,Promotions
ATTACH;FMTTYPE=image/jpeg:https://silvertoncasino.com/wp-content/uploads/2020/06/EWTrashCan_JulyWebsiteBANNER.jpg
END:VEVENT
BEGIN:VEVENT
DTSTART;VALUE=DATE:20200625
DTEND;VALUE=DATE:20200705
DTSTAMP:20260420T131945
CREATED:20200619T160212Z
LAST-MODIFIED:20200702T233127Z
UID:4714-1593043200-1593907199@silvertoncasino.com
SUMMARY:Buy One Sundance Grill Entrée\, Get One Free
DESCRIPTION:Buy One Sundance Grill Entrée\, Get One Free\nThursday – Saturday / June 25 – July 4 \nEnjoy buy one entrée\, get one free at Sundance Grill! Good to use one time each Thursday through Saturday. \nSee Silverton Rewards Club for complete rules and details.
URL:https://silvertoncasino.com/event/buy-one-sundance-grill-entree-get-one-free/
CATEGORIES:Dining,Promotions
ATTACH;FMTTYPE=image/jpeg:https://silvertoncasino.com/wp-content/uploads/2020/06/BOGOSundance_982x654.jpg
END:VEVENT
BEGIN:VEVENT
DTSTART;TZID=America/Denver:20200630T170000
DTEND;TZID=America/Denver:20200630T190000
DTSTAMP:20260420T131945
CREATED:20190916T173716Z
LAST-MODIFIED:20210830T235958Z
UID:2957-1593536400-1593543600@silvertoncasino.com
SUMMARY:Ladies Drink Free
DESCRIPTION:Ladies Drink Free\nShady Grove Lounge  \nDaily | 5pm – 7pm \nLadies Drink Free Daily from 5pm to 7pm at Shady Grove Lounge! Free drinks include house wine\, domestic beer and well cocktails. Happy Hour menu available starting at $9. \nHappy Hour Menu: \nCalamari\nserved with marinara\, lemon aioli\n$9 \nCauliflower Buffalo Bites\nServed with Celery\, Carrot Sticks\, Blue Cheese or Ranch dressing\n$9 \nTomato Caprese\nHouse made Burrata Cheese\, Marinated Heirloom Baby Tomatoes\, Fresh Basil\n$9 \nFish Tacos\nBattered cod\, Soft Corn Tortillas\, Pickled Cabbage\, Pico de gallo\, Chipotle Cream\n$12 \nFruit Platter\nassorted seasonal fruits\, berries & banana bread\, yogurt dressing\n$10 \nSmoked BBQ Salmon Salad\nsmoked bbq rubbed salmon\, fresh spinach\, Romaine lettuce\, red onions\, Roma tomatoes\, peppercorn ranch dressing\, fried onion strings\n$13 \nLobster Rolls\ntwo mini lobster rolls\, apple slaw\n$14 \n  \nMust be 21 years of age or older. \n*excludes Christmas Day and New Years Eve.
URL:https://silvertoncasino.com/event/ladies-drink-free-2019/
CATEGORIES:Dining,Promotions
ATTACH;FMTTYPE=image/jpeg:https://silvertoncasino.com/wp-content/uploads/2019/09/0919_LadiesDrinkFree_982x654.jpg
END:VEVENT
END:VCALENDAR