BEGIN:VCALENDAR
VERSION:2.0
PRODID:-//Las Vegas Hotels - Silverton Casino - ECPv6.13.2.1//NONSGML v1.0//EN
CALSCALE:GREGORIAN
METHOD:PUBLISH
X-WR-CALNAME:Las Vegas Hotels - Silverton Casino
X-ORIGINAL-URL:https://silvertoncasino.com
X-WR-CALDESC:Events for Las Vegas Hotels - Silverton Casino
REFRESH-INTERVAL;VALUE=DURATION:PT1H
X-Robots-Tag:noindex
X-PUBLISHED-TTL:PT1H
BEGIN:VTIMEZONE
TZID:America/Denver
BEGIN:DAYLIGHT
TZOFFSETFROM:-0700
TZOFFSETTO:-0600
TZNAME:MDT
DTSTART:20200308T090000
END:DAYLIGHT
BEGIN:STANDARD
TZOFFSETFROM:-0600
TZOFFSETTO:-0700
TZNAME:MST
DTSTART:20201101T080000
END:STANDARD
END:VTIMEZONE
BEGIN:VEVENT
DTSTART;VALUE=DATE:20200601
DTEND;VALUE=DATE:20200621
DTSTAMP:20260420T131919
CREATED:20200602T234123Z
LAST-MODIFIED:20200610T184522Z
UID:4608-1590969600-1592697599@silvertoncasino.com
SUMMARY:Earn & Win: Welcome Mat
DESCRIPTION:Earn & Win: Welcome Mat\nMonday – Thursday in June \nEarn 1000 points Monday through Thursday through June 20th. \nSwipe your card at any kiosk and print your Welcome Mat coupon once you have earned your points. \nPresent your coupon at the Silverton Rewards Club to receive your Welcome Mat on Friday or Saturday.\nLimit 1 Welcome Mat per person on each promotion date. \nSee Silverton Rewards Club for complete rules and details.
URL:https://silvertoncasino.com/event/earn-win-welcome-mat/
CATEGORIES:Casino,Promotions
ATTACH;FMTTYPE=image/jpeg:https://silvertoncasino.com/wp-content/uploads/2020/05/0420-ENW-WelcomeMat-WEBBANNERS.jpg
END:VEVENT
BEGIN:VEVENT
DTSTART;VALUE=DATE:20200617
DTEND;VALUE=DATE:20200618
DTSTAMP:20260420T131919
CREATED:20200601T222152Z
LAST-MODIFIED:20200601T222152Z
UID:4612-1592352000-1592438399@silvertoncasino.com
SUMMARY:50% Off Dining
DESCRIPTION:50% Off Dining\nFor Nevada’s Essential Employees\nJune 8 – 10 & 15 – 17 \nSundance\, Mi Casa\, and WuHu\nValid for Educators\, Medical Professionals\, Grocery Workers\, Truck Drivers\, Law Enforcement\, and First Responders.\nShow your work ID at any of the above venues and receive a 50% discount. Good to use one time for a maximum value of $25.
URL:https://silvertoncasino.com/event/50-off-dining/
CATEGORIES:Dining,Promotions
ATTACH;FMTTYPE=image/jpeg:https://silvertoncasino.com/wp-content/uploads/2020/05/0520-50OffDining-982x654-1.jpg
END:VEVENT
END:VCALENDAR