BEGIN:VCALENDAR
VERSION:2.0
PRODID:-//Las Vegas Hotels - Silverton Casino - ECPv6.13.2.1//NONSGML v1.0//EN
CALSCALE:GREGORIAN
METHOD:PUBLISH
X-WR-CALNAME:Las Vegas Hotels - Silverton Casino
X-ORIGINAL-URL:https://silvertoncasino.com
X-WR-CALDESC:Events for Las Vegas Hotels - Silverton Casino
REFRESH-INTERVAL;VALUE=DURATION:PT1H
X-Robots-Tag:noindex
X-PUBLISHED-TTL:PT1H
BEGIN:VTIMEZONE
TZID:America/Denver
BEGIN:DAYLIGHT
TZOFFSETFROM:-0700
TZOFFSETTO:-0600
TZNAME:MDT
DTSTART:20200308T090000
END:DAYLIGHT
BEGIN:STANDARD
TZOFFSETFROM:-0600
TZOFFSETTO:-0700
TZNAME:MST
DTSTART:20201101T080000
END:STANDARD
BEGIN:DAYLIGHT
TZOFFSETFROM:-0700
TZOFFSETTO:-0600
TZNAME:MDT
DTSTART:20210314T090000
END:DAYLIGHT
BEGIN:STANDARD
TZOFFSETFROM:-0600
TZOFFSETTO:-0700
TZNAME:MST
DTSTART:20211107T080000
END:STANDARD
END:VTIMEZONE
BEGIN:VTIMEZONE
TZID:America/Los_Angeles
BEGIN:DAYLIGHT
TZOFFSETFROM:-0800
TZOFFSETTO:-0700
TZNAME:PDT
DTSTART:20210314T100000
END:DAYLIGHT
BEGIN:STANDARD
TZOFFSETFROM:-0700
TZOFFSETTO:-0800
TZNAME:PST
DTSTART:20211107T090000
END:STANDARD
END:VTIMEZONE
BEGIN:VEVENT
DTSTART;VALUE=DATE:20201227
DTEND;VALUE=DATE:20211025
DTSTAMP:20260420T045439
CREATED:20210111T164434Z
LAST-MODIFIED:20211020T190208Z
UID:5132-1609027200-1635119999@silvertoncasino.com
SUMMARY:Prime Rib Dinner Sundays
DESCRIPTION:Prime Rib Dinner Sundays\nMi Casa Grill Cantina | $36 per person | 4:30PM – 9PM\n12oz.  Prime Rib with au jus & horseradish cream\, garlic mashed potatoes\, broccolini\, mini crème brûlée and a glass of house red or white wine
URL:https://silvertoncasino.com/event/prime-rib-dinner-sundays-mi-casa-grill-cantina/
CATEGORIES:Dining,Promotions
ATTACH;FMTTYPE=image/jpeg:https://silvertoncasino.com/wp-content/uploads/2021/01/0121-FBImageResize_PrimeRib_982x654.jpg
END:VEVENT
BEGIN:VEVENT
DTSTART;VALUE=DATE:20210101
DTEND;VALUE=DATE:20211023
DTSTAMP:20260420T045439
CREATED:20210109T004847Z
LAST-MODIFIED:20211020T190246Z
UID:5129-1609459200-1634947199@silvertoncasino.com
SUMMARY:Filet Fridays
DESCRIPTION:Filet Fridays\nMi Casa Grill Cantina | $45 per person | 4:30PM – 9PM\n6oz.  Filet Mignon\, caramelized shallots & smoked bacon\, roasted garlic mashed potatoes\, baby carrots\, mini crème brûlée and a glass of house red or white wine
URL:https://silvertoncasino.com/event/filet-fridays-mi-casa-grill-cantina/
CATEGORIES:Dining,Promotions
ATTACH;FMTTYPE=image/jpeg:https://silvertoncasino.com/wp-content/uploads/2021/01/0121-FBImageResize_FiletFriday_982x654.jpg
END:VEVENT
BEGIN:VEVENT
DTSTART;VALUE=DATE:20210201
DTEND;VALUE=DATE:20210629
DTSTAMP:20260420T045439
CREATED:20201021T171802Z
LAST-MODIFIED:20210505T183146Z
UID:4960-1612137600-1624924799@silvertoncasino.com
SUMMARY:Family Feast Grab-N-Go
DESCRIPTION:Family Feast Grab-N-Go at Sundance Grill\nMondays 11AM – 10PM \nEvery Monday\, Sundance Grill is offering a grab-n-go to feed the whole family! Enjoy 4 Petite Slices of Prime Rib\, Rosemary Jus & Creamy Horseradish\, 4 Dinner Rolls\, House Salad with Choice of Dressing\, Buttery Mashed Potatoes\, Grilled Asparagus & Baby Carrots for a family of four\, all for only $45.
URL:https://silvertoncasino.com/event/grab-n-go-sundance-grill/
CATEGORIES:Dining,Promotions
ATTACH;FMTTYPE=image/jpeg:https://silvertoncasino.com/wp-content/uploads/2020/10/0221_FamilyFeastGrabGo-982x654-1.jpg
END:VEVENT
BEGIN:VEVENT
DTSTART;VALUE=DATE:20210304
DTEND;VALUE=DATE:20210406
DTSTAMP:20260420T045439
CREATED:20210304T175354Z
LAST-MODIFIED:20210304T175354Z
UID:5345-1614816000-1617667199@silvertoncasino.com
SUMMARY:Million Dollar Bracket Battle
DESCRIPTION:Fill out a tourney bracket for a chance to win up to $1\,000\,000 Cash and Free Slot Play! Earn an extra bracket each day\, March 4-11\, 2021\, by earning 250 same-day base points. \n$5\,000 Championship Game Drawing \nApril 5\, 2021 at 5PM \nPlay fun free games online or play on the casino floor to score entries into the drawing. Earn 50 points for 1 entry\, March 14 – April 4. \nPLAY & WIN NOW! \n  \n  \n 
URL:https://silvertoncasino.com/event/million-dollar-bracket-battle/
CATEGORIES:Casino,Promotions
ATTACH;FMTTYPE=image/jpeg:https://silvertoncasino.com/wp-content/uploads/2021/03/MillionDollarBracket_Website.jpg
END:VEVENT
BEGIN:VEVENT
DTSTART;VALUE=DATE:20210401
DTEND;VALUE=DATE:20210501
DTSTAMP:20260420T045439
CREATED:20210323T195801Z
LAST-MODIFIED:20210324T214922Z
UID:5376-1617235200-1619827199@silvertoncasino.com
SUMMARY:Ocean of Riches - Collect N Win
DESCRIPTION:Ocean of Riches – Collect N Win \nApril 1 – 30  \nEarn 10 points each day and swipe at the kiosk to collect your game piece. Collect all 8 game pieces and win $25\,000 CASH! \nCollect N Win Game Pieces \n\nStarfish\nJellyfish\nClown Fish\nOctopus\nShark\nStingray\nPuffer Fish\nMermaid\n\nSee Silverton Rewards Club for rules and details.
URL:https://silvertoncasino.com/event/oceanofriches-collectnwin/
CATEGORIES:Casino,Promotions
ATTACH;FMTTYPE=image/jpeg:https://silvertoncasino.com/wp-content/uploads/2021/03/0421_OceanOfRichesCollectWin-982x654-1.jpg
END:VEVENT
BEGIN:VEVENT
DTSTART;VALUE=DATE:20210402
DTEND;VALUE=DATE:20210501
DTSTAMP:20260420T045439
CREATED:20210323T200432Z
LAST-MODIFIED:20210324T214707Z
UID:5378-1617321600-1619827199@silvertoncasino.com
SUMMARY:Ocean of Riches - Swipe N Win
DESCRIPTION:Ocean of Riches – Swipe N Win \nFridays & Saturdays in April \nEarn 100 points each promotion date to play. Swipe at the kiosk and win up to $1\,000 cash and other great prizes! \nPrizes include free slot play\, dining\, hotel\, plus $250\, $500\, or $1\,000 CASH. \n  \nSee Silverton Rewards Club for rules and details.
URL:https://silvertoncasino.com/event/oceanofriches-swipenwin/
CATEGORIES:Casino,Promotions
ATTACH;FMTTYPE=image/jpeg:https://silvertoncasino.com/wp-content/uploads/2021/03/0421_OceanOfRichesSwipeWin-982x654-1.jpg
END:VEVENT
BEGIN:VEVENT
DTSTART;TZID=America/Los_Angeles:20210404T110000
DTEND;TZID=America/Los_Angeles:20210404T160000
DTSTAMP:20260420T045439
CREATED:20210323T200818Z
LAST-MODIFIED:20210324T215248Z
UID:5379-1617534000-1617552000@silvertoncasino.com
SUMMARY:Easter Hot Seat
DESCRIPTION:Easter Hot Seat \nSunday\, April 4 | 11AM – 4PM \n3 random winners each hour receive $100 Free Slot Play! \nPlus\, active players on either side of the player each win $25 Free Slot Play. \n  \nSee Silverton Rewards Club for rules and details.
URL:https://silvertoncasino.com/event/easter-hot-seat/
CATEGORIES:Casino,Promotions
ATTACH;FMTTYPE=image/jpeg:https://silvertoncasino.com/wp-content/uploads/2021/03/0421_EasterHotSeat-982x654-1.jpg
END:VEVENT
BEGIN:VEVENT
DTSTART;VALUE=DATE:20210405
DTEND;VALUE=DATE:20210425
DTSTAMP:20260420T045439
CREATED:20210323T195046Z
LAST-MODIFIED:20210324T181625Z
UID:5373-1617580800-1619308799@silvertoncasino.com
SUMMARY:Earn & Win: Acrylic Pitcher
DESCRIPTION:Earn & Win: Acrylic Pitcher \nEarn Monday – Thursday | Redeem Friday – Saturday \nApril 5 – 10 and April 19 – 24\, 2021 \nEarn 2\,000 points Monday – Thursday | April 5 – 10 or April 19 – 24 \nPrint your coupon Friday or Saturday of the same week that you earn and present at Silverton Rewards Club to redeem. \nLimit one acrylic pitcher per person per promotion period. \n  \nSee Silverton Rewards Club for rules and details.
URL:https://silvertoncasino.com/event/acrylic-pitcher/
CATEGORIES:Casino,Promotions
ATTACH;FMTTYPE=image/jpeg:https://silvertoncasino.com/wp-content/uploads/2021/03/0421_EarnWinPitcher-982x654-1.jpg
END:VEVENT
BEGIN:VEVENT
DTSTART;TZID=America/Los_Angeles:20210415T120000
DTEND;TZID=America/Los_Angeles:20210415T190000
DTSTAMP:20260420T045439
CREATED:20210323T201510Z
LAST-MODIFIED:20210427T172222Z
UID:5381-1618488000-1618513200@silvertoncasino.com
SUMMARY:$12\,000 Tax Day Jackpot Bonus
DESCRIPTION:$12\,000 Tax Day Jackpot Bonus \nThursday\, April 15 \nHourly Drawings from Noon – 7PM  \nEarn 25 points for 1 entry from 10AM – 6:59PM \n  \nPrize Pool \nNoon – 6PM \n1st Place: $500 Cash \n2nd Place: $250 Free Slot Play \n3rd Place: $150 Free Slot Play \n4th – 5th Place: $50 Free Slot Play Each \n  \n7PM Drawing \n1st Place: $2\,500 Cash \n2nd Place: $1\,000 Free Slot Play \n3rd Place: $500 Free Slot Play \n4th Place: $250 Free Slot Play \n5th Place: $200 Free Slot Play \n6th Place: $150 Free Slot Play \n7th – 10th Place: $100 Free Slot Play Each \nSee Silverton Rewards Club for rules and details.
URL:https://silvertoncasino.com/event/tax-day-jackpot-bonus/
CATEGORIES:Casino,Promotions
ATTACH;FMTTYPE=image/jpeg:https://silvertoncasino.com/wp-content/uploads/2021/03/0421_TaxDayJackpot-982x654-1.jpg
END:VEVENT
END:VCALENDAR