BEGIN:VCALENDAR
VERSION:2.0
PRODID:-//Las Vegas Hotels - Silverton Casino - ECPv6.13.2.1//NONSGML v1.0//EN
CALSCALE:GREGORIAN
METHOD:PUBLISH
X-WR-CALNAME:Las Vegas Hotels - Silverton Casino
X-ORIGINAL-URL:https://silvertoncasino.com
X-WR-CALDESC:Events for Las Vegas Hotels - Silverton Casino
REFRESH-INTERVAL;VALUE=DURATION:PT1H
X-Robots-Tag:noindex
X-PUBLISHED-TTL:PT1H
BEGIN:VTIMEZONE
TZID:America/Denver
BEGIN:DAYLIGHT
TZOFFSETFROM:-0700
TZOFFSETTO:-0600
TZNAME:MDT
DTSTART:20200308T090000
END:DAYLIGHT
BEGIN:STANDARD
TZOFFSETFROM:-0600
TZOFFSETTO:-0700
TZNAME:MST
DTSTART:20201101T080000
END:STANDARD
BEGIN:DAYLIGHT
TZOFFSETFROM:-0700
TZOFFSETTO:-0600
TZNAME:MDT
DTSTART:20210314T090000
END:DAYLIGHT
BEGIN:STANDARD
TZOFFSETFROM:-0600
TZOFFSETTO:-0700
TZNAME:MST
DTSTART:20211107T080000
END:STANDARD
END:VTIMEZONE
BEGIN:VEVENT
DTSTART;VALUE=DATE:20201227
DTEND;VALUE=DATE:20211025
DTSTAMP:20260420T045419
CREATED:20210111T164434Z
LAST-MODIFIED:20211020T190208Z
UID:5132-1609027200-1635119999@silvertoncasino.com
SUMMARY:Prime Rib Dinner Sundays
DESCRIPTION:Prime Rib Dinner Sundays\nMi Casa Grill Cantina | $36 per person | 4:30PM – 9PM\n12oz.  Prime Rib with au jus & horseradish cream\, garlic mashed potatoes\, broccolini\, mini crème brûlée and a glass of house red or white wine
URL:https://silvertoncasino.com/event/prime-rib-dinner-sundays-mi-casa-grill-cantina/
CATEGORIES:Dining,Promotions
ATTACH;FMTTYPE=image/jpeg:https://silvertoncasino.com/wp-content/uploads/2021/01/0121-FBImageResize_PrimeRib_982x654.jpg
END:VEVENT
BEGIN:VEVENT
DTSTART;VALUE=DATE:20201230
DTEND;VALUE=DATE:20210301
DTSTAMP:20260420T045419
CREATED:20201221T231928Z
LAST-MODIFIED:20210520T193646Z
UID:5105-1609286400-1614556799@silvertoncasino.com
SUMMARY:Staycation Hotel Package
DESCRIPTION:Staycation Hotel Package\nNow – February 28\, 2021 \nBook a minimum of 2 nights and enjoy up to 25% off room rates. Plus\, receive 2 small Starbucks premium roast drip coffees. \nBook now by calling Silverton Room Reservations at 1.866.722.4608 or book online using promo code STA1120. \nOffer is limited\, subject to change and based on availability. Offer cannot be combined with any other offer or promotion. Two night minimum stay required. Blackout dates apply. Blackout dates include 12/30/20-1/1/21 & 2/5/21-2/7/21. Promotional rates are valid on all room types. Resort fees are not included. Offer is good for one room for a maximum of two persons. Limit of one active reservation. A credit card deposit of $100 is required at hotel check-in. Must be 21 years of age or older to book. Management reserves all rights. \n  \n  \n  \n 
URL:https://silvertoncasino.com/event/staycation-hotel-package/
CATEGORIES:Promotions
ATTACH;FMTTYPE=image/jpeg:https://silvertoncasino.com/wp-content/uploads/2020/12/71983-1220-StaycationHotelPromo_WEBSITE_982X654.jpg
END:VEVENT
BEGIN:VEVENT
DTSTART;VALUE=DATE:20210101
DTEND;VALUE=DATE:20211023
DTSTAMP:20260420T045419
CREATED:20210109T004847Z
LAST-MODIFIED:20211020T190246Z
UID:5129-1609459200-1634947199@silvertoncasino.com
SUMMARY:Filet Fridays
DESCRIPTION:Filet Fridays\nMi Casa Grill Cantina | $45 per person | 4:30PM – 9PM\n6oz.  Filet Mignon\, caramelized shallots & smoked bacon\, roasted garlic mashed potatoes\, baby carrots\, mini crème brûlée and a glass of house red or white wine
URL:https://silvertoncasino.com/event/filet-fridays-mi-casa-grill-cantina/
CATEGORIES:Dining,Promotions
ATTACH;FMTTYPE=image/jpeg:https://silvertoncasino.com/wp-content/uploads/2021/01/0121-FBImageResize_FiletFriday_982x654.jpg
END:VEVENT
BEGIN:VEVENT
DTSTART;VALUE=DATE:20210201
DTEND;VALUE=DATE:20210228
DTSTAMP:20260420T045419
CREATED:20210121T171336Z
LAST-MODIFIED:20210504T182111Z
UID:5217-1612137600-1614470399@silvertoncasino.com
SUMMARY:$65\,000 Rule the Road Weekly Drawings
DESCRIPTION:Rule the Road Weekly Drawings \nSaturdays in February at 7PM \nEarn 50 points per drawing entry for the chance to win up to  $5\,000 cash Saturdays in February. Ten winners will be announced at each week. \nPrize Pool: \n1st Place: $5\,000 Cash \n2nd-3rd Place: $1\,000 Free Slot Play each \n4th Place: $500 Free Slot Play \n5th Place: $250 Free Slot Play \n6th-10th Place: $100 Free Slot Play each \nSee Silverton Rewards Club for complete rules and details.
URL:https://silvertoncasino.com/event/rule-the-road-weekly-drawings/
CATEGORIES:Casino,Promotions
ATTACH;FMTTYPE=image/jpeg:https://silvertoncasino.com/wp-content/uploads/2021/01/0221_RuleTheRoadDrawings-982x654-1.jpg
END:VEVENT
BEGIN:VEVENT
DTSTART;VALUE=DATE:20210201
DTEND;VALUE=DATE:20210629
DTSTAMP:20260420T045419
CREATED:20201021T171802Z
LAST-MODIFIED:20210505T183146Z
UID:4960-1612137600-1624924799@silvertoncasino.com
SUMMARY:Family Feast Grab-N-Go
DESCRIPTION:Family Feast Grab-N-Go at Sundance Grill\nMondays 11AM – 10PM \nEvery Monday\, Sundance Grill is offering a grab-n-go to feed the whole family! Enjoy 4 Petite Slices of Prime Rib\, Rosemary Jus & Creamy Horseradish\, 4 Dinner Rolls\, House Salad with Choice of Dressing\, Buttery Mashed Potatoes\, Grilled Asparagus & Baby Carrots for a family of four\, all for only $45.
URL:https://silvertoncasino.com/event/grab-n-go-sundance-grill/
CATEGORIES:Dining,Promotions
ATTACH;FMTTYPE=image/jpeg:https://silvertoncasino.com/wp-content/uploads/2020/10/0221_FamilyFeastGrabGo-982x654-1.jpg
END:VEVENT
BEGIN:VEVENT
DTSTART;VALUE=DATE:20210208
DTEND;VALUE=DATE:20210228
DTSTAMP:20260420T045419
CREATED:20210118T170238Z
LAST-MODIFIED:20210121T185656Z
UID:5188-1612742400-1614470399@silvertoncasino.com
SUMMARY:Earn & Win: Touchless Soap Dispenser
DESCRIPTION:Earn & Win: Touchless Soap Dispenser\nEarn Monday – Thursday & Redeem Friday – Saturday\nFebruary 8 – 13 & 22 – 27\, 2021 \nEarn 2\,000 points Monday – Thursday\, February 8 – 11 or February 22 – 25. Print your coupon Friday or Saturday of the same week that you earn and present at Silverton Rewards Club to redeem. \nLimit one Touchless Soap Dispenser per person per promotion period. \nSee Silverton Rewards Club for complete rules and details.
URL:https://silvertoncasino.com/event/touchless-soap-dispenser/
CATEGORIES:Casino,Promotions
ATTACH;FMTTYPE=image/jpeg:https://silvertoncasino.com/wp-content/uploads/2021/01/0221_EWTouchlessSoapDispenser.jpg
END:VEVENT
BEGIN:VEVENT
DTSTART;VALUE=DATE:20210214
DTEND;VALUE=DATE:20210215
DTSTAMP:20260420T045419
CREATED:20210122T183944Z
LAST-MODIFIED:20210122T230604Z
UID:5224-1613260800-1613347199@silvertoncasino.com
SUMMARY:Valentine's Day Specials
DESCRIPTION:Valentine’s Day Specials\nSunday\, February 14\, 2021 \nMi Casa Grill Cantina | $45 per person 3 course meal \nStarter: House or Caesar Salad \nEntrée: 8oz. Grilled New York Strip\, Chipotle Butter Lobster Tail\, Cilantro Mashed Potatoes\, Roasted Carrots & Asparagus \nDessert: Strawberry-Chocolate Panna Cotta \nIncludes Glass of Champagne\, House Red or White Wine \nSundance Grill | $24.99 per person 3 course meal \nStarter: Choice of House Salad or Soup \nEntrée: Petit Filet of Beef\, Shrimp Scampi\, Buttery Mashed Potatoes & Charred Brussels Sprouts \nDessert: Raspberry & Chantilly Cream\, Butter Cookie Dust \nIncludes Glass of House Red or White Wine
URL:https://silvertoncasino.com/event/valentines-day-specials-21/
CATEGORIES:Dining,Promotions
ATTACH;FMTTYPE=image/jpeg:https://silvertoncasino.com/wp-content/uploads/2021/01/0221_ValentinesDaySpecials-982x654-1.jpg
END:VEVENT
BEGIN:VEVENT
DTSTART;VALUE=DATE:20210219
DTEND;VALUE=DATE:20210227
DTSTAMP:20260420T045419
CREATED:20210118T171645Z
LAST-MODIFIED:20210118T172405Z
UID:5194-1613692800-1614383999@silvertoncasino.com
SUMMARY:Sweetheart Swipe N Win
DESCRIPTION:Sweetheart Swipe N Win\nFebruary 19 & 26 \nSilverton Rewards Club members that earn 100 points on select Fridays in February receive a swipe for a chance to win up to $1\,000 cash or other great prizes.  Redeem promotion at any kiosk. \nSee Silverton Rewards Club for complete rules and details.
URL:https://silvertoncasino.com/event/sweetheart-swipe-n-win-2/
CATEGORIES:Casino,Promotions
ATTACH;FMTTYPE=image/jpeg:https://silvertoncasino.com/wp-content/uploads/2021/01/0221_SweetheartSwipeWin-982x654-1.jpg
END:VEVENT
BEGIN:VEVENT
DTSTART;VALUE=DATE:20210228
DTEND;VALUE=DATE:20210301
DTSTAMP:20260420T045419
CREATED:20210121T174157Z
LAST-MODIFIED:20210121T175937Z
UID:5220-1614470400-1614556799@silvertoncasino.com
SUMMARY:$65\,000 Rule the Road Grand Finale Drawing
DESCRIPTION:Rule the Road Grand Finale Drawing\nSunday\, February 28  at 5PM \nEarn 50 points per drawing entry for the chance to a travel trailer from Johnnie Walker RV this February. Five winners will be chosen to win prizes. \nPrize Pool: \n1st Place: Travel Trailer from Johnnie Walker RV* \n2nd-5th Place: $500 Free Slot Play each \nSee Silverton Rewards Club for complete rules and details. *1st Place winner will receive a $30\,000 credit valid at Johnnie Walker RV only. Price listed excludes documentation fee\, sales tax\, etc.
URL:https://silvertoncasino.com/event/rule-the-road-grand-finale-drawing/
CATEGORIES:Casino,Promotions
ATTACH;FMTTYPE=image/jpeg:https://silvertoncasino.com/wp-content/uploads/2021/01/0221_RuleTheRoadFinale-982x654-1.jpg
END:VEVENT
END:VCALENDAR