BEGIN:VCALENDAR
VERSION:2.0
PRODID:-//Las Vegas Hotels - Silverton Casino - ECPv6.13.2.1//NONSGML v1.0//EN
CALSCALE:GREGORIAN
METHOD:PUBLISH
X-WR-CALNAME:Las Vegas Hotels - Silverton Casino
X-ORIGINAL-URL:https://silvertoncasino.com
X-WR-CALDESC:Events for Las Vegas Hotels - Silverton Casino
REFRESH-INTERVAL;VALUE=DURATION:PT1H
X-Robots-Tag:noindex
X-PUBLISHED-TTL:PT1H
BEGIN:VTIMEZONE
TZID:America/Denver
BEGIN:DAYLIGHT
TZOFFSETFROM:-0700
TZOFFSETTO:-0600
TZNAME:MDT
DTSTART:20210314T090000
END:DAYLIGHT
BEGIN:STANDARD
TZOFFSETFROM:-0600
TZOFFSETTO:-0700
TZNAME:MST
DTSTART:20211107T080000
END:STANDARD
END:VTIMEZONE
BEGIN:VEVENT
DTSTART;TZID=America/Denver:20210702T190000
DTEND;TZID=America/Denver:20210702T220000
DTSTAMP:20260420T131929
CREATED:20210623T155058Z
LAST-MODIFIED:20210630T215121Z
UID:5699-1625252400-1625263200@silvertoncasino.com
SUMMARY:Stars\, Stripes & Island Vibes
DESCRIPTION:Stars\, Stripes & Island Vibes\nFriday\, July 2 & Saturday\, July 3\nVeil Pavilion \nGeneral Admission – $25 each night\nTickets available on the day of the show at Seasons near Veil Pavilion starting at 2 PM.\nGeneral Admission seating is first-come\, first-serve. VIP booths are available for purchase inside Veil Pavilion.\nDoors open at 6 PM and the show starts at 7 PM. \nFriday\, July 2\n\n\nFiji with Bonafide\nFiji is one of the biggest Polynesian artists of our time. His golden voice and musical blends have launched him on the world stage as a pioneer of the Pacific Island Sound. \nStarting off the night\, and performing with Fiji on stage is Bonafide. Serving as ambassadors of good vibes and good music\, Bonafide Reggae Band has taken the world by storm. \nSaturday\, July 3\n\nBonafide with Keoni\, Michael Black & Ras Kronik\nBonafide graces the stage for a second night of island vibes. Joining them on stage are Keoni\, Michael Black\, and Ras Kronik. \nClick here for more 4th of July weekend Holiday Happenings. \n  \nAll ages show. Guests under 18 must be accompanied by an adult 21+.\nTicket price subject to Live Entertainment Tax “L.E.T.” and fees where applicable. Credit card payments only\, no cash transactions. All sales are final.\nEntertainment subject to change without prior notice. Management reserves all rights.
URL:https://silvertoncasino.com/event/stars-stripes-island-vibes/
CATEGORIES:Entertainment,Events
ATTACH;FMTTYPE=image/jpeg:https://silvertoncasino.com/wp-content/uploads/2021/06/0721_StarsStripesIslandVibes-982x654-1.jpg
END:VEVENT
END:VCALENDAR