BEGIN:VCALENDAR
VERSION:2.0
PRODID:-//Las Vegas Hotels - Silverton Casino - ECPv6.13.2.1//NONSGML v1.0//EN
CALSCALE:GREGORIAN
METHOD:PUBLISH
X-WR-CALNAME:Las Vegas Hotels - Silverton Casino
X-ORIGINAL-URL:https://silvertoncasino.com
X-WR-CALDESC:Events for Las Vegas Hotels - Silverton Casino
REFRESH-INTERVAL;VALUE=DURATION:PT1H
X-Robots-Tag:noindex
X-PUBLISHED-TTL:PT1H
BEGIN:VTIMEZONE
TZID:America/Denver
BEGIN:DAYLIGHT
TZOFFSETFROM:-0700
TZOFFSETTO:-0600
TZNAME:MDT
DTSTART:20220313T090000
END:DAYLIGHT
BEGIN:STANDARD
TZOFFSETFROM:-0600
TZOFFSETTO:-0700
TZNAME:MST
DTSTART:20221106T080000
END:STANDARD
BEGIN:DAYLIGHT
TZOFFSETFROM:-0700
TZOFFSETTO:-0600
TZNAME:MDT
DTSTART:20230312T090000
END:DAYLIGHT
BEGIN:STANDARD
TZOFFSETFROM:-0600
TZOFFSETTO:-0700
TZNAME:MST
DTSTART:20231105T080000
END:STANDARD
BEGIN:DAYLIGHT
TZOFFSETFROM:-0700
TZOFFSETTO:-0600
TZNAME:MDT
DTSTART:20240310T090000
END:DAYLIGHT
BEGIN:STANDARD
TZOFFSETFROM:-0600
TZOFFSETTO:-0700
TZNAME:MST
DTSTART:20241103T080000
END:STANDARD
BEGIN:DAYLIGHT
TZOFFSETFROM:-0700
TZOFFSETTO:-0600
TZNAME:MDT
DTSTART:20250309T090000
END:DAYLIGHT
BEGIN:STANDARD
TZOFFSETFROM:-0600
TZOFFSETTO:-0700
TZNAME:MST
DTSTART:20251102T080000
END:STANDARD
BEGIN:DAYLIGHT
TZOFFSETFROM:-0700
TZOFFSETTO:-0600
TZNAME:MDT
DTSTART:20260308T090000
END:DAYLIGHT
BEGIN:STANDARD
TZOFFSETFROM:-0600
TZOFFSETTO:-0700
TZNAME:MST
DTSTART:20261101T080000
END:STANDARD
END:VTIMEZONE
BEGIN:VTIMEZONE
TZID:America/Los_Angeles
BEGIN:DAYLIGHT
TZOFFSETFROM:-0800
TZOFFSETTO:-0700
TZNAME:PDT
DTSTART:20230312T100000
END:DAYLIGHT
BEGIN:STANDARD
TZOFFSETFROM:-0700
TZOFFSETTO:-0800
TZNAME:PST
DTSTART:20231105T090000
END:STANDARD
END:VTIMEZONE
BEGIN:VEVENT
DTSTART;VALUE=DATE:20220601
DTEND;VALUE=DATE:20261228
DTSTAMP:20260423T182341
CREATED:20220923T224050Z
LAST-MODIFIED:20260413T163839Z
UID:7664-1654041600-1798415999@silvertoncasino.com
SUMMARY:Mermaid School
DESCRIPTION:Mermaid School\n\nNOW IN SESSION at Silverton Aquarium\nKIDS | ADULTS  \nA magical opportunity to become a Mermaid and swim in the aquarium! \nFor those who have dreamed of being a mermaid\, the opportunity has arrived. As part of the magical 90-minute experience\, participants are transformed into a famed Silverton mermaid and swim in the casino’s 117\,000-gallon aquarium\, along with thousands of tropical fish and rays.  Mermaid School makes the perfect gift! \n\nMermaid School for Kids\nAges 7-15 | $200 per child\nBOOK NOW \n\nMermaid School for Adults\nAges 16 or Older | $250 per participant\nBOOK NOW \n  \nThese programs are intended for participants who are strong swimmers. All equipment\, including goggles\, is provided.  Participants need only bring a swimsuit or towel. \nhttps://silvertoncasino.com/wp-content/uploads/2022/04/Silverton-Casino-Mermaid-School-30-sec-V.7.mp4\nQuestions? Click here to contact us. \nReservations must be booked at least 48 hours in advance. Price listed includes taxes and fees.  
URL:https://silvertoncasino.com/event/mermaid-school/
CATEGORIES:Events
ATTACH;FMTTYPE=image/jpeg:https://silvertoncasino.com/wp-content/uploads/2022/09/AQ0224-01_Mermaid-School-BOLV_WEBSITE-960x540-1.jpg
END:VEVENT
BEGIN:VEVENT
DTSTART;VALUE=DATE:20230912
DTEND;VALUE=DATE:20231101
DTSTAMP:20260423T182341
CREATED:20230908T165128Z
LAST-MODIFIED:20230912T182720Z
UID:10721-1694476800-1698796799@silvertoncasino.com
SUMMARY:Tarot Tuesdays at Shady Grove Lounge
DESCRIPTION:Cider Fest at Silverton Casino will feature “Tarot Tuesdays” every Tuesday in September and October at Shady Grove Lounge. Between the hours of 6-8pm\, visitors can get a “happy hour reading” from licensed Las Vegas psychic Michele Tell.\n\nIn these “happy hour readings\,” Tell blends her innate psychic gifts with an intuitive Tarot reading. She provides a truly deep introspective experience she likes to call Extremely Real Tarot Guidance.\n\nTell uses numerous tarot decks — some themed for Halloween — for messages that not only showcase current patterns and behaviors and future pathing and provide interesting messages for the fall season.\n\nThose wishing to receive a reading can sign in beginning at 5 p.m. every Tuesday. Readings will be held between 6 and 8 p.m.\, and will last about 10 minutes each.\n\nLearn more about Cider Fest
URL:https://silvertoncasino.com/event/tarot-tuesdays-at-shady-grove-lounge/
LOCATION:Shady Grove Lounge\, 3333 Blue Diamond Road\, Las Vegas\, NV\, 89139\, United States
CATEGORIES:Entertainment,Events
ATTACH;FMTTYPE=image/jpeg:https://silvertoncasino.com/wp-content/uploads/2023/09/FB0923-01_Cider-Fest-Tarot-Tuesdays_960x540_web.jpg
END:VEVENT
BEGIN:VEVENT
DTSTART;VALUE=DATE:20230930
DTEND;VALUE=DATE:20231002
DTSTAMP:20260423T182341
CREATED:20230731T201954Z
LAST-MODIFIED:20231001T021651Z
UID:10541-1696032000-1696204799@silvertoncasino.com
SUMMARY:3 Queens of Motown
DESCRIPTION:3 Queens of Motown\nA Night of Soul\, R&B\, Rock and Motown \nSaturday\, September 30 \nDoors: 7pm\nShow: 8pm\nVeil Pavilion \nStep back in time and immerse yourself in the golden era of soul\, rhythm\, and pure musical brilliance. Get ready to experience the electrifying “3 Queens of Motown” show! This captivating production brings together three extraordinary performers who embody the essence of Motown’s legendary leading ladies. Get ready to witness Stacy Carter as the iconic Diana Ross\, Lea Sweet channeling the unstoppable Tina Turner\, and Samantha Alexes capturing the soulful power of Aretha Franklin. \nPrepare to be transported to an era where music reigned supreme\, and these three queens ruled the charts. With impeccable attention to detail\, the performances are a dazzling display of talent\, paying homage to the remarkable careers of these Motown icons. From the grace and captivating presence of Diana Ross to the raw energy and soulful intensity of Tina Turner and the unmatched vocal prowess of Aretha Franklin\, these performers bring their unforgettable personas to life. \nBacked by the incredible Nathan Owens and his red-hot 7-piece show band\, every moment of the “3 Queens of Motown” show is a testament to the timeless power of Motown music. Nathan Owens has assembled some of the finest professional musicians on the West Coast\, ensuring an unforgettable night filled with soul\, funk\, rock\, and\, of course\, Motown. The band’s tight rhythm section will transport you straight to the heart of Detroit’s legendary Motown sound. \nThe “3 Queens of Motown” show is not just a tribute; it’s an immersive journey through the greatest hits of Motown\, brought to life by a cast of exceptional performers and a band that exudes passion and musical brilliance. So\, gather your friends\, put on your dancing shoes\, and get ready to experience an unforgettable night of soul\, R&B\, rock\, and Motown. \nLea Sweet as Tina Turner\nAt age six\, Lea saw the Ike and Tina Turner Revue\, her first live concert in her hometown of San Francisco. She became so inspired by the show that Lea dreamed of becoming an entertainer and owning the stage like Tina Turner with her powerful vocals and dancing. \nSamantha Alexes as Aretha Franklin\nSamantha Alexes rocks steady as she entertains sold out audiences in the Nathan Entertainment tribute show\, paying tribute to Aretha Franklin and Gladys Knight with vocals that wow audiences. After 30 years of performance experience\, Samantha still holds dear to her heart\, her true mentor and music influence\, Aretha Franklin \nStacy Carter as Diana Ross\nThe 3 Queens is blessed to have the vocal talents of Stacy Carter grace the stage as our Diana Ross. Stacy’s love for the music of Diana Ross started at an early age in San Francisco. Stacy has opened for Klymaxx (“The Men all Pause”) and Lakeside (“Fantastic Voyage”). \nNathan Owens – Music Director\nFor more than 40 years\, Nathan has been entertaining audiences all over the world\, performing alongside superstar entertainers such as Stevie Wonder and Kool & the Gang\, just to mention a few. Whether its vocals\, guitar\, keyboards\, or drums\, Nathan Owens never fails to get the party started. Nathan is well known from performing in California and Las Vegas nightclubs and casinos with his family band\, The Brothers Owens. The “3 Queens of Motown” show Is backed by Nathan’s red-hot 7-piece show band that is made up of some of the best professional musicians on the West Coast. \n  \nGeneral Admission – $25++\nGeneral Admission seating is first-come\, first-serve.\nDoors open at 7pm and the show starts at 8pm. \nBUY TICKETS NOW \nAll ages show. Guests under 18 must be accompanied by an adult 21+. Ticket price subject to Live Entertainment Tax “L.E.T.” and fees where applicable. All sales are final. Entertainment subject to change without prior notice. Management reserves all rights.
URL:https://silvertoncasino.com/event/3-queens-of-motown/
LOCATION:Veil Pavilion
CATEGORIES:Events
ATTACH;FMTTYPE=image/jpeg:https://silvertoncasino.com/wp-content/uploads/2023/07/EN0923-02_3-Queens_WEBSITE-960x540-1.jpg
END:VEVENT
END:VCALENDAR