BEGIN:VCALENDAR
VERSION:2.0
PRODID:-//Las Vegas Hotels - Silverton Casino - ECPv6.13.2.1//NONSGML v1.0//EN
CALSCALE:GREGORIAN
METHOD:PUBLISH
X-WR-CALNAME:Las Vegas Hotels - Silverton Casino
X-ORIGINAL-URL:https://silvertoncasino.com
X-WR-CALDESC:Events for Las Vegas Hotels - Silverton Casino
REFRESH-INTERVAL;VALUE=DURATION:PT1H
X-Robots-Tag:noindex
X-PUBLISHED-TTL:PT1H
BEGIN:VTIMEZONE
TZID:America/Denver
BEGIN:DAYLIGHT
TZOFFSETFROM:-0700
TZOFFSETTO:-0600
TZNAME:MDT
DTSTART:20210314T090000
END:DAYLIGHT
BEGIN:STANDARD
TZOFFSETFROM:-0600
TZOFFSETTO:-0700
TZNAME:MST
DTSTART:20211107T080000
END:STANDARD
BEGIN:DAYLIGHT
TZOFFSETFROM:-0700
TZOFFSETTO:-0600
TZNAME:MDT
DTSTART:20220313T090000
END:DAYLIGHT
BEGIN:STANDARD
TZOFFSETFROM:-0600
TZOFFSETTO:-0700
TZNAME:MST
DTSTART:20221106T080000
END:STANDARD
BEGIN:DAYLIGHT
TZOFFSETFROM:-0700
TZOFFSETTO:-0600
TZNAME:MDT
DTSTART:20230312T090000
END:DAYLIGHT
BEGIN:STANDARD
TZOFFSETFROM:-0600
TZOFFSETTO:-0700
TZNAME:MST
DTSTART:20231105T080000
END:STANDARD
BEGIN:DAYLIGHT
TZOFFSETFROM:-0700
TZOFFSETTO:-0600
TZNAME:MDT
DTSTART:20240310T090000
END:DAYLIGHT
BEGIN:STANDARD
TZOFFSETFROM:-0600
TZOFFSETTO:-0700
TZNAME:MST
DTSTART:20241103T080000
END:STANDARD
BEGIN:DAYLIGHT
TZOFFSETFROM:-0700
TZOFFSETTO:-0600
TZNAME:MDT
DTSTART:20250309T090000
END:DAYLIGHT
BEGIN:STANDARD
TZOFFSETFROM:-0600
TZOFFSETTO:-0700
TZNAME:MST
DTSTART:20251102T080000
END:STANDARD
BEGIN:DAYLIGHT
TZOFFSETFROM:-0700
TZOFFSETTO:-0600
TZNAME:MDT
DTSTART:20260308T090000
END:DAYLIGHT
BEGIN:STANDARD
TZOFFSETFROM:-0600
TZOFFSETTO:-0700
TZNAME:MST
DTSTART:20261101T080000
END:STANDARD
BEGIN:DAYLIGHT
TZOFFSETFROM:-0700
TZOFFSETTO:-0600
TZNAME:MDT
DTSTART:20270314T090000
END:DAYLIGHT
BEGIN:STANDARD
TZOFFSETFROM:-0600
TZOFFSETTO:-0700
TZNAME:MST
DTSTART:20271107T080000
END:STANDARD
END:VTIMEZONE
BEGIN:VTIMEZONE
TZID:America/Los_Angeles
BEGIN:DAYLIGHT
TZOFFSETFROM:-0800
TZOFFSETTO:-0700
TZNAME:PDT
DTSTART:20240310T100000
END:DAYLIGHT
BEGIN:STANDARD
TZOFFSETFROM:-0700
TZOFFSETTO:-0800
TZNAME:PST
DTSTART:20241103T090000
END:STANDARD
END:VTIMEZONE
BEGIN:VEVENT
DTSTART;VALUE=DATE:20211204
DTEND;VALUE=DATE:20270105
DTSTAMP:20260420T224528
CREATED:20231025T190050Z
LAST-MODIFIED:20251219T185120Z
UID:4724-1638576000-1799107199@silvertoncasino.com
SUMMARY:Fab 50+ Senior Mondays
DESCRIPTION:Fab 50+ Senior Mondays\nEvery Monday \nDiscovery Rewards Club members aged 50+ are eligible for special rewards each Monday. \nDINING\nWrangler rewards members and above receive 50% off one entree at Mi Casa Grill Cantina\, Su Casa Sushi Bar\, Sundance Grill or WuHu Noodle. Trailblazer rewards members may earn 25 points to participate in the dining offer. Dining coupons can be printed at any kiosk 7am-9pm. \nSWIPE N WIN\nStart your week off right\, swipe to win up to $100 Free Slot Play! \nAARP ROOM DISCOUNTS \nMembers of AARP receive a discount on hotel rooms.  Learn more here. \n See Discovery Rewards Club for complete rules and details. Offer subject to change. Management reserves all rights.
URL:https://silvertoncasino.com/event/fab-50-senior-mondays/
CATEGORIES:Casino,Promotions
ATTACH;FMTTYPE=image/jpeg:https://silvertoncasino.com/wp-content/uploads/2023/10/CM0823-17_Fab-50-Rebrand_WEBSITE-960x540-1.jpg
END:VEVENT
BEGIN:VEVENT
DTSTART;VALUE=DATE:20220601
DTEND;VALUE=DATE:20261228
DTSTAMP:20260420T224528
CREATED:20220923T224050Z
LAST-MODIFIED:20260413T163839Z
UID:7664-1654041600-1798415999@silvertoncasino.com
SUMMARY:Mermaid School
DESCRIPTION:Mermaid School\n\nNOW IN SESSION at Silverton Aquarium\nKIDS | ADULTS  \nA magical opportunity to become a Mermaid and swim in the aquarium! \nFor those who have dreamed of being a mermaid\, the opportunity has arrived. As part of the magical 90-minute experience\, participants are transformed into a famed Silverton mermaid and swim in the casino’s 117\,000-gallon aquarium\, along with thousands of tropical fish and rays.  Mermaid School makes the perfect gift! \n\nMermaid School for Kids\nAges 7-15 | $200 per child\nBOOK NOW \n\nMermaid School for Adults\nAges 16 or Older | $250 per participant\nBOOK NOW \n  \nThese programs are intended for participants who are strong swimmers. All equipment\, including goggles\, is provided.  Participants need only bring a swimsuit or towel. \nhttps://silvertoncasino.com/wp-content/uploads/2022/04/Silverton-Casino-Mermaid-School-30-sec-V.7.mp4\nQuestions? Click here to contact us. \nReservations must be booked at least 48 hours in advance. Price listed includes taxes and fees.  
URL:https://silvertoncasino.com/event/mermaid-school/
CATEGORIES:Events
ATTACH;FMTTYPE=image/jpeg:https://silvertoncasino.com/wp-content/uploads/2022/09/AQ0224-01_Mermaid-School-BOLV_WEBSITE-960x540-1.jpg
END:VEVENT
BEGIN:VEVENT
DTSTART;VALUE=DATE:20220830
DTEND;VALUE=DATE:20261230
DTSTAMP:20260420T224528
CREATED:20220824T201507Z
LAST-MODIFIED:20251219T185059Z
UID:7632-1661817600-1798588799@silvertoncasino.com
SUMMARY:Hospitality Salute
DESCRIPTION:Hospitality Salute\nTUESDAYS \nThank you to the hospitality and casino employees in Las Vegas for putting your heart into your work every day! \nEVERY TUESDAY\, WE SALUTE YOU WITH:\nSwipe N Win\nSwipe to Win up to $100 Free Slot Play or other great prizes! \n25% Dining Discount\nWrangler rewards members and above receive 25% off one entrée at Mi Casa Grill Cantina\, Sundance Grill\, or WuHu Noodle. Trailblazer rewards members may earn 20 points to participate in the dining offer. \nHappy Hour | 4PM – 7PM\n$1 Modelo or Pacifico draft beers and $2 well cocktails at any casino bar. \nDining and Happy Hour coupons are available to print starting at 7am. \nVisit the Discovery Rewards Club to enroll; must present employee ID or paystub. The program salutes a broad list of employees who work in the hospitality industry\, including casinos\, hotels\, restaurants\, retail shops\, and shows.  It also includes employees who support the hospitality industry\, like cab drivers\, Uber and Lyft drivers\, and airline employees. Must be 21 years of age or older. Management reserves all rights.
URL:https://silvertoncasino.com/event/hospitality/
CATEGORIES:Casino,Dining,Promotions
ATTACH;FMTTYPE=image/jpeg:https://silvertoncasino.com/wp-content/uploads/2025/07/CM0725-18_Weekday-Salutes_Hospitality_WEBSITE-960x540-1.jpg
END:VEVENT
BEGIN:VEVENT
DTSTART;VALUE=DATE:20220831
DTEND;VALUE=DATE:20261231
DTSTAMP:20260420T224528
CREATED:20220825T151142Z
LAST-MODIFIED:20251219T185027Z
UID:7464-1661904000-1798675199@silvertoncasino.com
SUMMARY:Military & Veteran Salute
DESCRIPTION:Military & Veteran Salute\nWEDNESDAYS\nThank you for your service\, members of the armed forces and US veterans! \nEVERY WEDNESDAY\, WE SALUTE YOU WITH:\nSwipe N Win\nSwipe to Win up to $100 Free Slot Play or other great prizes! \n50% Dining Discount\nWrangler rewards members and above receive 50% off one entrée at Mi Casa Grill Cantina\, Sundance Grill or WuHu Noodle. Trailblazer rewards members may earn 25 points to participate in the dining offer. \nHappy Hour | 4PM – 7PM\n$1 Modelo or Pacifico draft beers and $2 well cocktails at any casino bar. \nMilitary Room Rates\nMore details here \nDining and Happy Hour coupons are available to print starting at 7am. \nVisit the Discovery Rewards Club to enroll; must present Military or Veteran ID. Must be 21 years of age or older. Management reserves all rights.
URL:https://silvertoncasino.com/event/military/
CATEGORIES:Casino,Dining,Promotions
ATTACH;FMTTYPE=image/jpeg:https://silvertoncasino.com/wp-content/uploads/2025/07/CM0725-18_Weekday-Salutes_Military_WEBSITE-960x540-1.jpg
END:VEVENT
BEGIN:VEVENT
DTSTART;VALUE=DATE:20220901
DTEND;VALUE=DATE:20270101
DTSTAMP:20260420T224528
CREATED:20220825T161909Z
LAST-MODIFIED:20251219T185008Z
UID:7450-1661990400-1798761599@silvertoncasino.com
SUMMARY:Healthcare & First Responder Salute
DESCRIPTION:Healthcare & First Responder Salute\nTHURSDAYS\nThank you to healthcare employees and first responders in Las Vegas for putting your heart into your work every day! \nEVERY THURSDAY\, WE SALUTE YOU WITH:\nSwipe N Win\nSwipe to Win up to $100 Free Slot Play or other great prizes! \n25% Dining Discount\nWrangler rewards members and above receive 25% off one entrée at Mi Casa Grill Cantina\, Su Casa Sushi\,  Sundance Grill or WuHu Noodle. Trailblazer rewards members may earn 20 points to participate in the dining offer. \nHappy Hour | 4PM – 7PM\n$1 Modelo or Pacifico draft beers and $2 well cocktails at any casino bar. \nDining and Happy Hour coupons are available to print starting at 7am. \nVisit the Discovery Rewards Club to enroll; must present employee ID or paystub. First Responders include Police\, Firefighters\, EMS\, and 911 Dispatchers. Healthcare Employees include Doctors\, Nurses\, Physician Assistants\, Certified Nursing Assistants\, Medical Office Personnel\, EMTs and Paramedics. Must be 21 years of age or older. Management reserves all rights.
URL:https://silvertoncasino.com/event/firstresponders/
CATEGORIES:Casino,Dining,Promotions
ATTACH;FMTTYPE=image/jpeg:https://silvertoncasino.com/wp-content/uploads/2022/08/CM0725-18_Weekday-Salutes_Healthcare_WEBSITE-960x540_Revised.jpg
END:VEVENT
BEGIN:VEVENT
DTSTART;VALUE=DATE:20221007
DTEND;VALUE=DATE:20270102
DTSTAMP:20260420T224528
CREATED:20220825T180723Z
LAST-MODIFIED:20251219T184943Z
UID:7691-1665100800-1798847999@silvertoncasino.com
SUMMARY:Teacher Salute
DESCRIPTION:Teacher Salute\nFRIDAYS\nThank you\, Teachers\, for the heart you pour into your work and for guiding our future. \nEVERY FRIDAY\, WE SALUTE YOU WITH:\nSwipe N Win\nSwipe to Win up to $100 Free Slot Play or other great prizes! \n25% Dining Discount\nWrangler rewards members and above receive 25% off one entrée at Mi Casa Grill Cantina\, Su Casa Sushi\, Sundance Grill or WuHu Noodle. Trailblazer rewards members may earn 20 points to participate in the dining offer. \nHappy Hour | 4PM – 7PM\n$1 Modelo or Pacifico draft beers and $2 well cocktails at any casino bar. \nDining and Happy Hour coupons are available to print starting at 7am. \n\nVisit the Discovery Rewards Club to enroll; must present employee ID or state certification. Must be 21 years of age or older. Management reserves all rights.
URL:https://silvertoncasino.com/event/teachers/
CATEGORIES:Casino,Dining,Promotions
ATTACH;FMTTYPE=image/jpeg:https://silvertoncasino.com/wp-content/uploads/2025/07/CM0725-18_Weekday-Salutes_Teacher_WEBSITE-960x540-1.jpg
END:VEVENT
BEGIN:VEVENT
DTSTART;VALUE=DATE:20230701
DTEND;VALUE=DATE:20261231
DTSTAMP:20260420T224528
CREATED:20220606T211743Z
LAST-MODIFIED:20260402T231108Z
UID:7177-1688169600-1798675199@silvertoncasino.com
SUMMARY:The Stakes Are High
DESCRIPTION:The Stakes Are High\nTwin Creeks Steakhouse \nThe stakes are high when you take advantage of this promotion at Twin Creeks. \nGo big with our 40oz. Tomahawk steak at Twin Creeks\, and you could get lucky! This signature cut comes with a chance to roll three dice for a prize. What you roll determines your reward. \n\nAny die with a five: Guest will receive a free dessert\nThree ones: 10 percent off Tomahawk entrée\nThree twos: 20 percent off Tomahawk entrée\nThree threes: 30 percent off Tomahawk entrée\nThree fours: 40 percent off Tomahawk entrée\nThree fives: 50 percent off Tomahawk entrée\, and a free dessert\nThree sixes: 100 percent off Tomahawk entrée\n\n\nTWIN CREEKS SERVES CERTIFIED ANGUS BEEF®\, KNOWN FOR ITS EXCEPTIONAL QUALITY\, MARBLING\, AND FLAVOR. \nThe “Stakes are High” program is available for diners at Twin Creeks Steakhouse who order the Tomahawk entrée. Upon ordering\, one diner can roll three dice to potentially win a free dessert\, or a percent discount on their Tomahawk entrée. Only one roll per Tomahawk entrée ordered. You must be 21+ to play. Management reserves all rights.
URL:https://silvertoncasino.com/event/the-stakes-are-high/
CATEGORIES:Dining,Promotions
ATTACH;FMTTYPE=image/jpeg:https://silvertoncasino.com/wp-content/uploads/2025/07/FB0725-05_TC-Stakes-Are-High-Update_WEBSITE-960x540-1.jpg
END:VEVENT
BEGIN:VEVENT
DTSTART;VALUE=DATE:20240109
DTEND;VALUE=DATE:20240529
DTSTAMP:20260420T224528
CREATED:20240101T193111Z
LAST-MODIFIED:20240529T172026Z
UID:11341-1704758400-1716940799@silvertoncasino.com
SUMMARY:Tarot Tuesdays
DESCRIPTION:Tarot Tuesdays\nNew location:  Mermaid Lounge\n6PM – 8PM \n\n\nSilverton Casino features “Tarot Tuesdays” every Tuesday THROUGH MAY 28 at Mermaid Lounge. \nBetween the hours of 6-8pm\, visitors can get a “happy hour reading” from Michele Tell\, intuitive & natural tarot card reader\, licensed in Psychic Arts in Las Vegas. \nIn these “happy hour readings\,” Tell blends her innate psychic gifts with intuitive Tarot interpretations on love\, career\, money\, family\, personal obstacles and the self-care journey. She provides a truly deep introspective experience she likes to call Extremely Real Tarot Guidance. \nTell uses numerous tarot decks for messages that showcase current patterns and behaviors and future pathing while providing interesting messages for 2024. \nThose wishing to receive a reading can sign in beginning at 5pm every Tuesday at Mermaid Lounge.  Readings begin at 6 pm until 8 pm  and will last about 10 minutes each. Tarot Readings are complimentary with a purchase of a drink. \n\n 
URL:https://silvertoncasino.com/event/tarot-tuesdays/
LOCATION:Mermaid Lounge
CATEGORIES:Entertainment,Events,Promotions
ATTACH;FMTTYPE=image/jpeg:https://silvertoncasino.com/wp-content/uploads/2024/01/FB0124-04_Tarot-Tuesdays_900x506.jpg
END:VEVENT
BEGIN:VEVENT
DTSTART;VALUE=DATE:20240203
DTEND;VALUE=DATE:20240225
DTSTAMP:20260420T224528
CREATED:20240126T221109Z
LAST-MODIFIED:20240130T021105Z
UID:11508-1706918400-1708819199@silvertoncasino.com
SUMMARY:Lucky Lantern Drawings
DESCRIPTION:Lucky Lantern Drawings\nSaturdays in February\n7PM Drawings \nSilverton Rewards Club members may earn 100 points per drawing entry for the chance to win up to $8\,888 Cash! 10 lucky winners will will be drawn each Saturday. \nClick here for rules and details. Available to all Silverton Rewards Club members. Must be 21 years of age or older. Management reserves all rights.
URL:https://silvertoncasino.com/event/lucky-lantern-drawings/
CATEGORIES:Casino,Promotions
ATTACH;FMTTYPE=image/jpeg:https://silvertoncasino.com/wp-content/uploads/2024/01/CM0224-03_February-Website-Images_Lucky-Lantern-960x540-1.jpg
END:VEVENT
BEGIN:VEVENT
DTSTART;VALUE=DATE:20240209
DTEND;VALUE=DATE:20240226
DTSTAMP:20260420T224528
CREATED:20240125T180049Z
LAST-MODIFIED:20240207T155141Z
UID:3522-1707436800-1708905599@silvertoncasino.com
SUMMARY:Chinese New Year Menu Specials
DESCRIPTION:Chinese New Year Menu Specials\nFebruary 9 – 25\nWuHu Noodle \nBRAISED SEA CUCUMBER\nblack mushrooms\, baby bok choy\, ginger\, green onions\, oyster sauce\n88 \nSTEAMED KING CRAB LEGS\nginger\, green onions\, supreme sauce\n88 \nJELLY FISH\nsalad with cucumber\, sesame\, cilantro\, pickled radish\, carrot\n24 \nSAUTÉED TURNIP CAKE\ngreen onions\, spicy sauce\n24 \nManagement reserves all rights.
URL:https://silvertoncasino.com/event/chinese-new-year-wuhu/
CATEGORIES:Dining,Promotions
ATTACH;FMTTYPE=image/jpeg:https://silvertoncasino.com/wp-content/uploads/2024/01/FB0123-02_WuHu-CNY-Menu_WEB-960x540-1.jpg
END:VEVENT
END:VCALENDAR