BEGIN:VCALENDAR
VERSION:2.0
PRODID:-//Las Vegas Hotels - Silverton Casino - ECPv6.13.2.1//NONSGML v1.0//EN
CALSCALE:GREGORIAN
METHOD:PUBLISH
X-WR-CALNAME:Las Vegas Hotels - Silverton Casino
X-ORIGINAL-URL:https://silvertoncasino.com
X-WR-CALDESC:Events for Las Vegas Hotels - Silverton Casino
REFRESH-INTERVAL;VALUE=DURATION:PT1H
X-Robots-Tag:noindex
X-PUBLISHED-TTL:PT1H
BEGIN:VTIMEZONE
TZID:America/Denver
BEGIN:DAYLIGHT
TZOFFSETFROM:-0700
TZOFFSETTO:-0600
TZNAME:MDT
DTSTART:20190310T090000
END:DAYLIGHT
BEGIN:STANDARD
TZOFFSETFROM:-0600
TZOFFSETTO:-0700
TZNAME:MST
DTSTART:20191103T080000
END:STANDARD
END:VTIMEZONE
BEGIN:VEVENT
DTSTART;VALUE=DATE:20191203
DTEND;VALUE=DATE:20191220
DTSTAMP:20260424T095841
CREATED:20191204T181534Z
LAST-MODIFIED:20210520T200337Z
UID:3290-1575331200-1576799999@silvertoncasino.com
SUMMARY:Jingle Bell Rock
DESCRIPTION:Jingle Bell Rock\nDecember 3 – 19 | 6pm – 7pm\nShady Grove Lounge \nWin $10\,000 if you find the Jingle Bell Rock!  \nJoin us for our annual Jingle Bell Rock promotion with 96.3 KKLZ. Listeners can follow along on 96.3 KKLZ for promotion rules\, clues\, and reveal parties in the search to find the Jingle Bell Rock hidden in Las Vegas! \nClues will be posted at Silverton Casino’s Players Club beginning on Monday\, December 2. \nSchedule of Events: \nThursday\, November 21: Kick-off Party from 5pm to 7pm\nFeaturing free food and Tito’s Vodka Cocktails \nTuesday\, December 3: Participant Gathering Puzzle Party from 6pm to 7pm\nThursday\, December 5: Participant Gathering Puzzle Party from 6pm to 7pm\nTuesday\, December 10: Participant Gathering Puzzle Party from 6pm to 7pm\nThursday\, December 12: Participant Gathering Puzzle Party from 6pm to 7pm\nThursday\, December 19: Participant Gathering Puzzle Party from 6pm to 7pm \nDon’t forget that Ladies Drink Free daily from 5pm to 7pm at Shady Grove Lounge! \nMust be 18 years of age or older to participate in Jingle Bell Rock\, but all attendees to parties at Shady Grove Lounge must be 21 years of age or older. \n 
URL:https://silvertoncasino.com/event/jingle-bell-rock/
CATEGORIES:Entertainment,Events
ATTACH;FMTTYPE=image/jpeg:https://silvertoncasino.com/wp-content/uploads/2019/12/1119_JingleBellRock_982x654.jpg
END:VEVENT
BEGIN:VEVENT
DTSTART;VALUE=DATE:20191214
DTEND;VALUE=DATE:20191215
DTSTAMP:20260424T095841
CREATED:20191204T185516Z
LAST-MODIFIED:20210226T213847Z
UID:3306-1576281600-1576367999@silvertoncasino.com
SUMMARY:Pick A Prize Giveaway
DESCRIPTION:Pick A Prize Giveaway\nSaturdays in December \nSilverton Rewards Club members may earn 200 points per drawing entry for the chance to win cash\, electronics or experiences Saturdays in December! \nEarn entries for the drawings December 1-28. Print your entries at any kiosk to deposit into the prize box of your choice. Five winners will be announced from each prize box each Saturday at 7pm. \nChoose box 1 for $1\,500 in cash each week\, box 2 for iPhone 11 Pro with either AirPods Pro earbuds or an Apple Watch each week\, box 3 for $2\,000 in Southwest Airlines gift card week 1\, $2\,000 in golf gift cards week 2\, $3\,000 gift card to Red Mountain Resort in Utah week 3 and two Disneyland Signature Plus Passports on week 4. \nSee Silverton Rewards Club for complete rules and details.
URL:https://silvertoncasino.com/event/pick-a-prize-giveaway/
CATEGORIES:Casino,Promotions
ATTACH;FMTTYPE=image/jpeg:https://silvertoncasino.com/wp-content/uploads/2019/12/1119_PickAPrize_982x654.jpg
END:VEVENT
END:VCALENDAR